BEGIN:VCALENDAR
VERSION:2.0
PRODID:-//spbstu.ru//ical//RU
NAME:Расписание группы 5130902/20201
X-WR-CALNAME:Расписание группы 5130902/20201
TIMEZONE-ID:Europe/Moscow
X-WR-TIMEZONE:Europe/Moscow
BEGIN:VEVENT
UID:ybxf@192.168.245.71:3006
SEQUENCE:0
DTSTAMP:20260421T173512Z
DTSTART:20260317T090000Z
DTEND:20260317T104000Z
SUMMARY:Интеллектуальные информационно-управляющие системы
LOCATION:3 к. 401
END:VEVENT
BEGIN:VEVENT
UID:1y08@192.168.245.71:3006
SEQUENCE:0
DTSTAMP:20260421T173512Z
DTSTART:20260317T110000Z
DTEND:20260317T124000Z
SUMMARY:Теория знаний
LOCATION:3 к. 503
END:VEVENT
BEGIN:VEVENT
UID:avu8@192.168.245.71:3006
SEQUENCE:0
DTSTAMP:20260421T173512Z
DTSTART:20260317T130000Z
DTEND:20260317T154000Z
SUMMARY:Теория знаний
LOCATION:3 к. 401
END:VEVENT
BEGIN:VEVENT
UID:mpmp@192.168.245.71:3006
SEQUENCE:0
DTSTAMP:20260421T173512Z
DTSTART:20260318T053000Z
DTEND:20260318T142000Z
SUMMARY:Военная подготовка
LOCATION:Военная каф. кафедра
END:VEVENT
BEGIN:VEVENT
UID:2176@192.168.245.71:3006
SEQUENCE:0
DTSTAMP:20260421T173512Z
DTSTART:20260319T110000Z
DTEND:20260319T124000Z
SUMMARY:Интеллектуальные информационно-управляющие системы
LOCATION:3 к. 404
END:VEVENT
BEGIN:VEVENT
UID:3ph9@192.168.245.71:3006
SEQUENCE:0
DTSTAMP:20260421T173512Z
DTSTART:20260319T130000Z
DTEND:20260319T144000Z
SUMMARY:Интеллектуальные информационно-управляющие системы
LOCATION:3 к. 404
END:VEVENT
BEGIN:VEVENT
UID:sq48@192.168.245.71:3006
SEQUENCE:0
DTSTAMP:20260421T173512Z
DTSTART:20260319T150000Z
DTEND:20260319T164000Z
SUMMARY:Научно-исследовательская работа
LOCATION:3 к. 505
END:VEVENT
BEGIN:VEVENT
UID:kbid@192.168.245.71:3006
SEQUENCE:0
DTSTAMP:20260421T173512Z
DTSTART:20260320T070000Z
DTEND:20260320T084000Z
SUMMARY:Кроссплатформенное программирование
LOCATION:3 к. 401
END:VEVENT
BEGIN:VEVENT
UID:x05w@192.168.245.71:3006
SEQUENCE:0
DTSTAMP:20260421T173512Z
DTSTART:20260320T090000Z
DTEND:20260320T104000Z
SUMMARY:Кроссплатформенное программирование
LOCATION:3 к. 505
END:VEVENT
BEGIN:VEVENT
UID:g9w5@192.168.245.71:3006
SEQUENCE:0
DTSTAMP:20260421T173512Z
DTSTART:20260320T110000Z
DTEND:20260320T124000Z
SUMMARY:Кроссплатформенное программирование
LOCATION:3 к. 505
END:VEVENT
END:VCALENDAR