BEGIN:VCALENDAR
VERSION:2.0
PRODID:-//spbstu.ru//ical//RU
NAME:Расписание группы 5130903/20302
X-WR-CALNAME:Расписание группы 5130903/20302
TIMEZONE-ID:Europe/Moscow
X-WR-TIMEZONE:Europe/Moscow
BEGIN:VEVENT
UID:1ysj@192.168.245.71:3006
SEQUENCE:0
DTSTAMP:20260424T062434Z
DTSTART:20251117T070000Z
DTEND:20251117T084000Z
SUMMARY:Разработка пользовательских интерфейсов
LOCATION:11 к. 102
END:VEVENT
BEGIN:VEVENT
UID:3hhb@192.168.245.71:3006
SEQUENCE:0
DTSTAMP:20260424T062434Z
DTSTART:20251118T070000Z
DTEND:20251118T084000Z
SUMMARY:Технологии искусственного интеллекта для анализа данных
LOCATION:11 к. 102
END:VEVENT
BEGIN:VEVENT
UID:5hqn@192.168.245.71:3006
SEQUENCE:0
DTSTAMP:20260424T062434Z
DTSTART:20251118T090000Z
DTEND:20251118T104000Z
SUMMARY:Информационная безопасность
LOCATION:11 к. 216
END:VEVENT
BEGIN:VEVENT
UID:zir7@192.168.245.71:3006
SEQUENCE:0
DTSTAMP:20260424T062434Z
DTSTART:20251118T110000Z
DTEND:20251118T124000Z
SUMMARY:Технологии искусственного интеллекта для анализа данных
LOCATION:11 к. 341
END:VEVENT
BEGIN:VEVENT
UID:woxz@192.168.245.71:3006
SEQUENCE:0
DTSTAMP:20260424T062434Z
DTSTART:20251118T130000Z
DTEND:20251118T144000Z
SUMMARY:Информационная безопасность
LOCATION:11 к. 143
END:VEVENT
BEGIN:VEVENT
UID:h5sa@192.168.245.71:3006
SEQUENCE:0
DTSTAMP:20260424T062434Z
DTSTART:20251119T053000Z
DTEND:20251119T142000Z
SUMMARY:Военная подготовка
LOCATION:Военная каф. кафедра
END:VEVENT
BEGIN:VEVENT
UID:pkmr@192.168.245.71:3006
SEQUENCE:0
DTSTAMP:20260424T062434Z
DTSTART:20251120T070000Z
DTEND:20251120T084000Z
SUMMARY:Технологии разработки мобильных приложений
LOCATION:11 к. 102
END:VEVENT
BEGIN:VEVENT
UID:hy3y@192.168.245.71:3006
SEQUENCE:0
DTSTAMP:20260424T062434Z
DTSTART:20251120T110000Z
DTEND:20251120T124000Z
SUMMARY:Технологии разработки мобильных приложений
LOCATION:11 к. 218
END:VEVENT
BEGIN:VEVENT
UID:xijg@192.168.245.71:3006
SEQUENCE:0
DTSTAMP:20260424T062434Z
DTSTART:20251121T070000Z
DTEND:20251121T084000Z
SUMMARY:Программирование веб-приложений
LOCATION:11 к. 107
END:VEVENT
BEGIN:VEVENT
UID:qmwj@192.168.245.71:3006
SEQUENCE:0
DTSTAMP:20260424T062434Z
DTSTART:20251121T110000Z
DTEND:20251121T124000Z
SUMMARY:Программирование веб-приложений
LOCATION:11 к. 329
END:VEVENT
END:VCALENDAR