BEGIN:VCALENDAR
VERSION:2.0
PRODID:-//spbstu.ru//ical//RU
NAME:Расписание группы 5130903/20302
X-WR-CALNAME:Расписание группы 5130903/20302
TIMEZONE-ID:Europe/Moscow
X-WR-TIMEZONE:Europe/Moscow
BEGIN:VEVENT
UID:87y9@192.168.245.71:3006
SEQUENCE:0
DTSTAMP:20260425T134415Z
DTSTART:20250922T070000Z
DTEND:20250922T084000Z
SUMMARY:Разработка пользовательских интерфейсов
LOCATION:11 к. 102
END:VEVENT
BEGIN:VEVENT
UID:n7mp@192.168.245.71:3006
SEQUENCE:0
DTSTAMP:20260425T134415Z
DTSTART:20250923T070000Z
DTEND:20250923T084000Z
SUMMARY:Технологии искусственного интеллекта для анализа данных
LOCATION:11 к. 102
END:VEVENT
BEGIN:VEVENT
UID:1lic@192.168.245.71:3006
SEQUENCE:0
DTSTAMP:20260425T134415Z
DTSTART:20250923T090000Z
DTEND:20250923T104000Z
SUMMARY:Информационная безопасность
LOCATION:11 к. 216
END:VEVENT
BEGIN:VEVENT
UID:zzep@192.168.245.71:3006
SEQUENCE:0
DTSTAMP:20260425T134415Z
DTSTART:20250923T110000Z
DTEND:20250923T124000Z
SUMMARY:Технологии искусственного интеллекта для анализа данных
LOCATION:11 к. 341
END:VEVENT
BEGIN:VEVENT
UID:nbcr@192.168.245.71:3006
SEQUENCE:0
DTSTAMP:20260425T134415Z
DTSTART:20250923T130000Z
DTEND:20250923T144000Z
SUMMARY:Информационная безопасность
LOCATION:11 к. 143
END:VEVENT
BEGIN:VEVENT
UID:of2n@192.168.245.71:3006
SEQUENCE:0
DTSTAMP:20260425T134415Z
DTSTART:20250924T053000Z
DTEND:20250924T142000Z
SUMMARY:Военная подготовка
LOCATION:Военная каф. кафедра
END:VEVENT
BEGIN:VEVENT
UID:gi69@192.168.245.71:3006
SEQUENCE:0
DTSTAMP:20260425T134415Z
DTSTART:20250925T070000Z
DTEND:20250925T084000Z
SUMMARY:Технологии разработки мобильных приложений
LOCATION:11 к. 102
END:VEVENT
BEGIN:VEVENT
UID:qaut@192.168.245.71:3006
SEQUENCE:0
DTSTAMP:20260425T134415Z
DTSTART:20250925T110000Z
DTEND:20250925T124000Z
SUMMARY:Технологии разработки мобильных приложений
LOCATION:11 к. 218
END:VEVENT
BEGIN:VEVENT
UID:7p7e@192.168.245.71:3006
SEQUENCE:0
DTSTAMP:20260425T134415Z
DTSTART:20250926T070000Z
DTEND:20250926T084000Z
SUMMARY:Программирование веб-приложений
LOCATION:11 к. 107
END:VEVENT
BEGIN:VEVENT
UID:h713@192.168.245.71:3006
SEQUENCE:0
DTSTAMP:20260425T134415Z
DTSTART:20250926T110000Z
DTEND:20250926T124000Z
SUMMARY:Программирование веб-приложений
LOCATION:11 к. 329
END:VEVENT
END:VCALENDAR