BEGIN:VCALENDAR
VERSION:2.0
PRODID:-//spbstu.ru//ical//RU
NAME:Расписание группы 5130904/20102
X-WR-CALNAME:Расписание группы 5130904/20102
TIMEZONE-ID:Europe/Moscow
X-WR-TIMEZONE:Europe/Moscow
BEGIN:VEVENT
UID:bv2o@192.168.245.71:3006
SEQUENCE:0
DTSTAMP:20260425T025839Z
DTSTART:20260112T070000Z
DTEND:20260112T140000Z
SUMMARY:Сети и телекоммуникации
LOCATION:3 к. 211
END:VEVENT
BEGIN:VEVENT
UID:j1uo@192.168.245.71:3006
SEQUENCE:0
DTSTAMP:20260425T025839Z
DTSTART:20260114T090000Z
DTEND:20260114T104000Z
SUMMARY:Разработка программного обеспечения для моделирования физических п
 роцессов
LOCATION:DL Дистанционно
END:VEVENT
BEGIN:VEVENT
UID:9dwy@192.168.245.71:3006
SEQUENCE:0
DTSTAMP:20260425T025839Z
DTSTART:20260114T130000Z
DTEND:20260114T144000Z
SUMMARY:Применение методов искусственного интеллекта для цифровой обработк
 и сигналов
LOCATION:DL Дистанционно
END:VEVENT
BEGIN:VEVENT
UID:esar@192.168.245.71:3006
SEQUENCE:0
DTSTAMP:20260425T025839Z
DTSTART:20260115T070000Z
DTEND:20260115T140000Z
SUMMARY:Разработка программного обеспечения для моделирования физических п
 роцессов
LOCATION:3 к. 204
END:VEVENT
BEGIN:VEVENT
UID:69xp@192.168.245.71:3006
SEQUENCE:0
DTSTAMP:20260425T025839Z
DTSTART:20260115T070000Z
DTEND:20260115T140000Z
SUMMARY:Применение методов искусственного интеллекта для цифровой обработк
 и сигналов
LOCATION:3 к. 217
END:VEVENT
BEGIN:VEVENT
UID:odfp@192.168.245.71:3006
SEQUENCE:0
DTSTAMP:20260425T025839Z
DTSTART:20260116T070000Z
DTEND:20260116T094000Z
SUMMARY:Основы процесса разработки качественного программного продукта и е
 го метрология
LOCATION:3 к. 110
END:VEVENT
BEGIN:VEVENT
UID:gnzg@192.168.245.71:3006
SEQUENCE:0
DTSTAMP:20260425T025839Z
DTSTART:20260116T100000Z
DTEND:20260116T124000Z
SUMMARY:Нейронные сети
LOCATION:3 к. 104
END:VEVENT
BEGIN:VEVENT
UID:fbmq@192.168.245.71:3006
SEQUENCE:0
DTSTAMP:20260425T025839Z
DTSTART:20260117T080000Z
DTEND:20260117T094000Z
SUMMARY:Основы процесса разработки качественного программного продукта и е
 го метрология
LOCATION:DL Дистанционно
END:VEVENT
END:VCALENDAR