BEGIN:VCALENDAR
VERSION:2.0
PRODID:-//spbstu.ru//ical//RU
NAME:Расписание группы 5130904/20102
X-WR-CALNAME:Расписание группы 5130904/20102
TIMEZONE-ID:Europe/Moscow
X-WR-TIMEZONE:Europe/Moscow
BEGIN:VEVENT
UID:nw0p@192.168.245.71:3006
SEQUENCE:0
DTSTAMP:20260424T132923Z
DTSTART:20260202T070000Z
DTEND:20260202T084000Z
SUMMARY:Сети и телекоммуникации
LOCATION:3 к. 215
END:VEVENT
BEGIN:VEVENT
UID:wccg@192.168.245.71:3006
SEQUENCE:0
DTSTAMP:20260424T132923Z
DTSTART:20260203T090000Z
DTEND:20260203T104000Z
SUMMARY:Авторское право\, метрология и стандартизация программного обеспеч
 ения
LOCATION:3 к. 215
END:VEVENT
BEGIN:VEVENT
UID:rxfv@192.168.245.71:3006
SEQUENCE:0
DTSTAMP:20260424T132923Z
DTSTART:20260203T130000Z
DTEND:20260203T144000Z
SUMMARY:Технологии разработки качественного программного обеспечения
LOCATION:3 к. 201
END:VEVENT
BEGIN:VEVENT
UID:hp5u@192.168.245.71:3006
SEQUENCE:0
DTSTAMP:20260424T132923Z
DTSTART:20260204T053000Z
DTEND:20260204T142000Z
SUMMARY:Военная подготовка
LOCATION:Военная каф. кафедра
END:VEVENT
BEGIN:VEVENT
UID:n428@192.168.245.71:3006
SEQUENCE:0
DTSTAMP:20260424T132923Z
DTSTART:20260205T090000Z
DTEND:20260205T104000Z
SUMMARY:Верификация и тестирование программного обеспечения
LOCATION:3 к. 215
END:VEVENT
BEGIN:VEVENT
UID:nf9g@192.168.245.71:3006
SEQUENCE:0
DTSTAMP:20260424T132923Z
DTSTART:20260205T130000Z
DTEND:20260205T144000Z
SUMMARY:Глубокое обучение
LOCATION:11 к. 148
END:VEVENT
BEGIN:VEVENT
UID:saaz@192.168.245.71:3006
SEQUENCE:0
DTSTAMP:20260424T132923Z
DTSTART:20260205T130000Z
DTEND:20260205T144000Z
SUMMARY:Системы управления базами данных на основе суперкомпьютерных техно
 логий. Дополнительные главы
LOCATION:11 к. 143
END:VEVENT
BEGIN:VEVENT
UID:nou1@192.168.245.71:3006
SEQUENCE:0
DTSTAMP:20260424T132923Z
DTSTART:20260205T150000Z
DTEND:20260205T164000Z
SUMMARY:Глубокое обучение
LOCATION:3 к. 104
END:VEVENT
BEGIN:VEVENT
UID:ryeg@192.168.245.71:3006
SEQUENCE:0
DTSTAMP:20260424T132923Z
DTSTART:20260205T150000Z
DTEND:20260205T164000Z
SUMMARY:Системы управления базами данных на основе суперкомпьютерных техно
 логий. Дополнительные главы
LOCATION:3 к. 105
END:VEVENT
BEGIN:VEVENT
UID:t3dg@192.168.245.71:3006
SEQUENCE:0
DTSTAMP:20260424T132923Z
DTSTART:20260206T150000Z
DTEND:20260206T164000Z
SUMMARY:Верификация и тестирование программного обеспечения
LOCATION:3 к. 215
END:VEVENT
BEGIN:VEVENT
UID:kb83@192.168.245.71:3006
SEQUENCE:0
DTSTAMP:20260424T132923Z
DTSTART:20260207T070000Z
DTEND:20260207T084000Z
SUMMARY:Защита информации
LOCATION:ГЗ 237
END:VEVENT
BEGIN:VEVENT
UID:0kv8@192.168.245.71:3006
SEQUENCE:0
DTSTAMP:20260424T132923Z
DTSTART:20260207T090000Z
DTEND:20260207T104000Z
SUMMARY:Защита информации
LOCATION:3 к. 104
END:VEVENT
END:VCALENDAR