BEGIN:VCALENDAR
VERSION:2.0
PRODID:-//spbstu.ru//ical//RU
NAME:Расписание группы 5130904/20102
X-WR-CALNAME:Расписание группы 5130904/20102
TIMEZONE-ID:Europe/Moscow
X-WR-TIMEZONE:Europe/Moscow
BEGIN:VEVENT
UID:8y31@192.168.245.71:3006
SEQUENCE:0
DTSTAMP:20260422T014921Z
DTSTART:20260406T070000Z
DTEND:20260406T084000Z
SUMMARY:Сети и телекоммуникации
LOCATION:3 к. 215
END:VEVENT
BEGIN:VEVENT
UID:cqen@192.168.245.71:3006
SEQUENCE:0
DTSTAMP:20260422T014921Z
DTSTART:20260406T090000Z
DTEND:20260406T104000Z
SUMMARY:Технологии разработки качественного программного обеспечения
LOCATION:3 к. 203
END:VEVENT
BEGIN:VEVENT
UID:7f8a@192.168.245.71:3006
SEQUENCE:0
DTSTAMP:20260422T014921Z
DTSTART:20260406T110000Z
DTEND:20260406T124000Z
SUMMARY:Сети и телекоммуникации
LOCATION:3 к. 216
END:VEVENT
BEGIN:VEVENT
UID:ufkc@192.168.245.71:3006
SEQUENCE:0
DTSTAMP:20260422T014921Z
DTSTART:20260406T130000Z
DTEND:20260406T144000Z
SUMMARY:Верификация и тестирование программного обеспечения
LOCATION:3 к. 102
END:VEVENT
BEGIN:VEVENT
UID:wczy@192.168.245.71:3006
SEQUENCE:0
DTSTAMP:20260422T014921Z
DTSTART:20260406T150000Z
DTEND:20260406T164000Z
SUMMARY:Верификация и тестирование программного обеспечения
LOCATION:3 к. 215
END:VEVENT
BEGIN:VEVENT
UID:0zv3@192.168.245.71:3006
SEQUENCE:0
DTSTAMP:20260422T014921Z
DTSTART:20260407T070000Z
DTEND:20260407T084000Z
SUMMARY:Авторское право\, метрология и стандартизация программного обеспеч
 ения
LOCATION:3 к. 105
END:VEVENT
BEGIN:VEVENT
UID:raqv@192.168.245.71:3006
SEQUENCE:0
DTSTAMP:20260422T014921Z
DTSTART:20260407T090000Z
DTEND:20260407T104000Z
SUMMARY:Авторское право\, метрология и стандартизация программного обеспеч
 ения
LOCATION:3 к. 215
END:VEVENT
BEGIN:VEVENT
UID:5q5e@192.168.245.71:3006
SEQUENCE:0
DTSTAMP:20260422T014921Z
DTSTART:20260407T130000Z
DTEND:20260407T144000Z
SUMMARY:Технологии разработки качественного программного обеспечения
LOCATION:3 к. 201
END:VEVENT
BEGIN:VEVENT
UID:o5ys@192.168.245.71:3006
SEQUENCE:0
DTSTAMP:20260422T014921Z
DTSTART:20260408T053000Z
DTEND:20260408T142000Z
SUMMARY:Военная подготовка
LOCATION:Военная каф. кафедра
END:VEVENT
BEGIN:VEVENT
UID:29zw@192.168.245.71:3006
SEQUENCE:0
DTSTAMP:20260422T014921Z
DTSTART:20260409T070000Z
DTEND:20260409T084000Z
SUMMARY:Применение методов искусственного интеллекта для цифровой обработк
 и сигналов
LOCATION:3 к. 217
END:VEVENT
BEGIN:VEVENT
UID:6vd9@192.168.245.71:3006
SEQUENCE:0
DTSTAMP:20260422T014921Z
DTSTART:20260409T070000Z
DTEND:20260409T084000Z
SUMMARY:Разработка программного обеспечения для моделирования физических п
 роцессов
LOCATION:3 к. 216
END:VEVENT
BEGIN:VEVENT
UID:jo4u@192.168.245.71:3006
SEQUENCE:0
DTSTAMP:20260422T014921Z
DTSTART:20260409T090000Z
DTEND:20260409T104000Z
SUMMARY:Верификация и тестирование программного обеспечения
LOCATION:3 к. 215
END:VEVENT
BEGIN:VEVENT
UID:6ec6@192.168.245.71:3006
SEQUENCE:0
DTSTAMP:20260422T014921Z
DTSTART:20260409T110000Z
DTEND:20260409T124000Z
SUMMARY:Системы управления базами данных на основе суперкомпьютерных техно
 логий. Дополнительные главы
LOCATION:3 к. 503
END:VEVENT
BEGIN:VEVENT
UID:m3fb@192.168.245.71:3006
SEQUENCE:0
DTSTAMP:20260422T014921Z
DTSTART:20260409T130000Z
DTEND:20260409T144000Z
SUMMARY:Глубокое обучение
LOCATION:11 к. 148
END:VEVENT
BEGIN:VEVENT
UID:6j2d@192.168.245.71:3006
SEQUENCE:0
DTSTAMP:20260422T014921Z
DTSTART:20260409T130000Z
DTEND:20260409T144000Z
SUMMARY:Системы управления базами данных на основе суперкомпьютерных техно
 логий. Дополнительные главы
LOCATION:3 к. 501
END:VEVENT
BEGIN:VEVENT
UID:9rsp@192.168.245.71:3006
SEQUENCE:0
DTSTAMP:20260422T014921Z
DTSTART:20260409T150000Z
DTEND:20260409T151500Z
SUMMARY:Сети и телекоммуникации
LOCATION:3 к. 202
END:VEVENT
BEGIN:VEVENT
UID:1qbf@192.168.245.71:3006
SEQUENCE:0
DTSTAMP:20260422T014921Z
DTSTART:20260409T151500Z
DTEND:20260409T153000Z
SUMMARY:Защита информации
LOCATION:3 к. 202
END:VEVENT
BEGIN:VEVENT
UID:ndye@192.168.245.71:3006
SEQUENCE:0
DTSTAMP:20260422T014921Z
DTSTART:20260411T070000Z
DTEND:20260411T084000Z
SUMMARY:Защита информации
LOCATION:ГЗ 237
END:VEVENT
BEGIN:VEVENT
UID:xsuu@192.168.245.71:3006
SEQUENCE:0
DTSTAMP:20260422T014921Z
DTSTART:20260411T090000Z
DTEND:20260411T104000Z
SUMMARY:Технологии разработки качественного программного обеспечения
LOCATION:3 к. 105
END:VEVENT
END:VCALENDAR