BEGIN:VCALENDAR
VERSION:2.0
PRODID:-//spbstu.ru//ical//RU
NAME:Расписание группы 5130904/20103
X-WR-CALNAME:Расписание группы 5130904/20103
TIMEZONE-ID:Europe/Moscow
X-WR-TIMEZONE:Europe/Moscow
BEGIN:VEVENT
UID:7h84@192.168.245.71:3006
SEQUENCE:0
DTSTAMP:20260421T090919Z
DTSTART:20260427T070000Z
DTEND:20260427T094000Z
SUMMARY:Применение методов искусственного интеллекта для цифровой обработк
 и сигналов
LOCATION:3 к. 216
END:VEVENT
BEGIN:VEVENT
UID:2f9e@192.168.245.71:3006
SEQUENCE:0
DTSTAMP:20260421T090919Z
DTSTART:20260427T100000Z
DTEND:20260427T123000Z
SUMMARY:Применение методов искусственного интеллекта для цифровой обработк
 и сигналов
LOCATION:3 к. 216
END:VEVENT
BEGIN:VEVENT
UID:88hj@192.168.245.71:3006
SEQUENCE:0
DTSTAMP:20260421T090919Z
DTSTART:20260427T110000Z
DTEND:20260427T133000Z
SUMMARY:Разработка программного обеспечения для моделирования физических п
 роцессов
LOCATION:3 к. 111
END:VEVENT
BEGIN:VEVENT
UID:596r@192.168.245.71:3006
SEQUENCE:0
DTSTAMP:20260421T090919Z
DTSTART:20260427T140000Z
DTEND:20260427T163000Z
SUMMARY:Разработка программного обеспечения для моделирования физических п
 роцессов
LOCATION:3 к. 111
END:VEVENT
BEGIN:VEVENT
UID:ajf7@192.168.245.71:3006
SEQUENCE:0
DTSTAMP:20260421T090919Z
DTSTART:20260429T150000Z
DTEND:20260429T164000Z
SUMMARY:Технологии разработки качественного программного обеспечения
LOCATION:3 к. 101
END:VEVENT
BEGIN:VEVENT
UID:jzg7@192.168.245.71:3006
SEQUENCE:0
DTSTAMP:20260421T090919Z
DTSTART:20260430T060000Z
DTEND:20260430T130000Z
SUMMARY:Технологии разработки качественного программного обеспечения
LOCATION:3 к. 217
END:VEVENT
BEGIN:VEVENT
UID:yzzh@192.168.245.71:3006
SEQUENCE:0
DTSTAMP:20260421T090919Z
DTSTART:20260502T090000Z
DTEND:20260502T130000Z
SUMMARY:Технологии разработки качественного программного обеспечения
LOCATION:DL Дистанционно
END:VEVENT
END:VCALENDAR