BEGIN:VCALENDAR
VERSION:2.0
PRODID:-//spbstu.ru//ical//RU
NAME:Расписание группы 5130904/20103
X-WR-CALNAME:Расписание группы 5130904/20103
TIMEZONE-ID:Europe/Moscow
X-WR-TIMEZONE:Europe/Moscow
BEGIN:VEVENT
UID:q6u8@192.168.245.71:3006
SEQUENCE:0
DTSTAMP:20260421T121140Z
DTSTART:20260504T070000Z
DTEND:20260504T084000Z
SUMMARY:Преддипломная практика
LOCATION:Не опр. Нет
END:VEVENT
BEGIN:VEVENT
UID:lbq9@192.168.245.71:3006
SEQUENCE:0
DTSTAMP:20260421T121140Z
DTSTART:20260505T070000Z
DTEND:20260505T084000Z
SUMMARY:Преддипломная практика
LOCATION:Не опр. Нет
END:VEVENT
BEGIN:VEVENT
UID:pad5@192.168.245.71:3006
SEQUENCE:0
DTSTAMP:20260421T121140Z
DTSTART:20260506T070000Z
DTEND:20260506T084000Z
SUMMARY:Преддипломная практика
LOCATION:Не опр. Нет
END:VEVENT
BEGIN:VEVENT
UID:tkb2@192.168.245.71:3006
SEQUENCE:0
DTSTAMP:20260421T121140Z
DTSTART:20260507T070000Z
DTEND:20260507T084000Z
SUMMARY:Преддипломная практика
LOCATION:Не опр. Нет
END:VEVENT
BEGIN:VEVENT
UID:7sxu@192.168.245.71:3006
SEQUENCE:0
DTSTAMP:20260421T121140Z
DTSTART:20260508T070000Z
DTEND:20260508T084000Z
SUMMARY:Преддипломная практика
LOCATION:Не опр. Нет
END:VEVENT
END:VCALENDAR