BEGIN:VCALENDAR
VERSION:2.0
PRODID:-//spbstu.ru//ical//RU
NAME:Расписание группы 5131001/20501
X-WR-CALNAME:Расписание группы 5131001/20501
TIMEZONE-ID:Europe/Moscow
X-WR-TIMEZONE:Europe/Moscow
BEGIN:VEVENT
UID:axtf@192.168.245.71:3006
SEQUENCE:0
DTSTAMP:20260421T055029Z
DTSTART:20260406T070000Z
DTEND:20260406T084000Z
SUMMARY:Безопасность интернет-приложений
LOCATION:ГЗ 215
END:VEVENT
BEGIN:VEVENT
UID:ln2u@192.168.245.71:3006
SEQUENCE:0
DTSTAMP:20260421T055029Z
DTSTART:20260406T090000Z
DTEND:20260406T104000Z
SUMMARY:Технологии машинного обучения в кибербезопасности
LOCATION:ГЗ 280
END:VEVENT
BEGIN:VEVENT
UID:mngr@192.168.245.71:3006
SEQUENCE:0
DTSTAMP:20260421T055029Z
DTSTART:20260406T110000Z
DTEND:20260406T124000Z
SUMMARY:Криптографические методы защиты информации
LOCATION:ГЗ 224
END:VEVENT
BEGIN:VEVENT
UID:qxe5@192.168.245.71:3006
SEQUENCE:0
DTSTAMP:20260421T055029Z
DTSTART:20260406T130000Z
DTEND:20260406T144000Z
SUMMARY:Криптографические методы защиты информации
LOCATION:ГЗ 165
END:VEVENT
BEGIN:VEVENT
UID:4cek@192.168.245.71:3006
SEQUENCE:0
DTSTAMP:20260421T055029Z
DTSTART:20260406T144000Z
DTEND:20260406T150000Z
SUMMARY:Безопасность операционных систем
LOCATION:ГЗ 173
END:VEVENT
BEGIN:VEVENT
UID:fcmo@192.168.245.71:3006
SEQUENCE:0
DTSTAMP:20260421T055029Z
DTSTART:20260407T070000Z
DTEND:20260407T084000Z
SUMMARY:Системы управления базами данных
LOCATION:3 к. 309
END:VEVENT
BEGIN:VEVENT
UID:rl0e@192.168.245.71:3006
SEQUENCE:0
DTSTAMP:20260421T055029Z
DTSTART:20260407T090000Z
DTEND:20260407T104000Z
SUMMARY:Технологии машинного обучения в кибербезопасности
LOCATION:3 к. 210
END:VEVENT
BEGIN:VEVENT
UID:z9u6@192.168.245.71:3006
SEQUENCE:0
DTSTAMP:20260421T055029Z
DTSTART:20260407T110000Z
DTEND:20260407T124000Z
SUMMARY:Безопасность интернет-приложений
LOCATION:3 к. 210
END:VEVENT
BEGIN:VEVENT
UID:bv96@192.168.245.71:3006
SEQUENCE:0
DTSTAMP:20260421T055029Z
DTSTART:20260407T110000Z
DTEND:20260407T124000Z
SUMMARY:Технологии передачи данных в сетях мобильной связи
LOCATION:3 к. 501
END:VEVENT
BEGIN:VEVENT
UID:9g8o@192.168.245.71:3006
SEQUENCE:0
DTSTAMP:20260421T055029Z
DTSTART:20260408T053000Z
DTEND:20260408T142000Z
SUMMARY:Военная подготовка
LOCATION:Военная каф. кафедра
END:VEVENT
BEGIN:VEVENT
UID:9868@192.168.245.71:3006
SEQUENCE:0
DTSTAMP:20260421T055029Z
DTSTART:20260410T070000Z
DTEND:20260410T084000Z
SUMMARY:Системы управления базами данных
LOCATION:11 к. 143
END:VEVENT
BEGIN:VEVENT
UID:h6sg@192.168.245.71:3006
SEQUENCE:0
DTSTAMP:20260421T055029Z
DTSTART:20260410T090000Z
DTEND:20260410T104000Z
SUMMARY:Безопасность операционных систем
LOCATION:11 к. 143
END:VEVENT
END:VCALENDAR