BEGIN:VCALENDAR
VERSION:2.0
PRODID:-//spbstu.ru//ical//RU
NAME:Расписание группы 5131001/20502
X-WR-CALNAME:Расписание группы 5131001/20502
TIMEZONE-ID:Europe/Moscow
X-WR-TIMEZONE:Europe/Moscow
BEGIN:VEVENT
UID:sm7l@192.168.245.71:3006
SEQUENCE:0
DTSTAMP:20260425T231302Z
DTSTART:20250915T070000Z
DTEND:20250915T084000Z
SUMMARY:Безопасность компьютерных сетей
LOCATION:ГЗ 105
END:VEVENT
BEGIN:VEVENT
UID:k0xd@192.168.245.71:3006
SEQUENCE:0
DTSTAMP:20260425T231302Z
DTSTART:20250915T090000Z
DTEND:20250915T104000Z
SUMMARY:Программно-аппаратные средства обеспечения информационной безопасн
 ости
LOCATION:ГЗ 171
END:VEVENT
BEGIN:VEVENT
UID:qtri@192.168.245.71:3006
SEQUENCE:0
DTSTAMP:20260425T231302Z
DTSTART:20250915T110000Z
DTEND:20250915T124000Z
SUMMARY:Безопасность операционных систем
LOCATION:11 к. 143
END:VEVENT
BEGIN:VEVENT
UID:solf@192.168.245.71:3006
SEQUENCE:0
DTSTAMP:20260425T231302Z
DTSTART:20250915T130000Z
DTEND:20250915T144000Z
SUMMARY:Высокопроизводительные системы обработки Больших данных
LOCATION:11 к. 323
END:VEVENT
BEGIN:VEVENT
UID:9v66@192.168.245.71:3006
SEQUENCE:0
DTSTAMP:20260425T231302Z
DTSTART:20250916T090000Z
DTEND:20250916T104000Z
SUMMARY:Основы искусственного интеллекта
LOCATION:ГЗ 170 Б
END:VEVENT
BEGIN:VEVENT
UID:wcip@192.168.245.71:3006
SEQUENCE:0
DTSTAMP:20260425T231302Z
DTSTART:20250916T110000Z
DTEND:20250916T124000Z
SUMMARY:Программно-аппаратные средства обеспечения информационной безопасн
 ости
LOCATION:11 к. 148
END:VEVENT
BEGIN:VEVENT
UID:6cw7@192.168.245.71:3006
SEQUENCE:0
DTSTAMP:20260425T231302Z
DTSTART:20250916T130000Z
DTEND:20250916T144000Z
SUMMARY:Криптографические методы защиты информации
LOCATION:11 к. 319
END:VEVENT
BEGIN:VEVENT
UID:cvpv@192.168.245.71:3006
SEQUENCE:0
DTSTAMP:20260425T231302Z
DTSTART:20250917T053000Z
DTEND:20250917T142000Z
SUMMARY:Военная подготовка
LOCATION:Военная каф. кафедра
END:VEVENT
BEGIN:VEVENT
UID:6txi@192.168.245.71:3006
SEQUENCE:0
DTSTAMP:20260425T231302Z
DTSTART:20250918T070000Z
DTEND:20250918T084000Z
SUMMARY:Техническая защита информации
LOCATION:ГЗ 215
END:VEVENT
BEGIN:VEVENT
UID:jwxw@192.168.245.71:3006
SEQUENCE:0
DTSTAMP:20260425T231302Z
DTSTART:20250918T090000Z
DTEND:20250918T104000Z
SUMMARY:Основы искусственного интеллекта
LOCATION:ГЗ 235
END:VEVENT
BEGIN:VEVENT
UID:j6kt@192.168.245.71:3006
SEQUENCE:0
DTSTAMP:20260425T231302Z
DTSTART:20250918T110000Z
DTEND:20250918T124000Z
SUMMARY:Техническая защита информации
LOCATION:ГЗ 171
END:VEVENT
BEGIN:VEVENT
UID:ymqr@192.168.245.71:3006
SEQUENCE:0
DTSTAMP:20260425T231302Z
DTSTART:20250918T130000Z
DTEND:20250918T144000Z
SUMMARY:Криптографические методы защиты информации
LOCATION:ГЗ 170 Б
END:VEVENT
BEGIN:VEVENT
UID:ljge@192.168.245.71:3006
SEQUENCE:0
DTSTAMP:20260425T231302Z
DTSTART:20250919T070000Z
DTEND:20250919T084000Z
SUMMARY:Введение в мобильные технологии и средства связи
LOCATION:3 к. 502
END:VEVENT
BEGIN:VEVENT
UID:sd6v@192.168.245.71:3006
SEQUENCE:0
DTSTAMP:20260425T231302Z
DTSTART:20250919T070000Z
DTEND:20250919T084000Z
SUMMARY:Высокопроизводительные системы обработки Больших данных
LOCATION:3 к. 511
END:VEVENT
BEGIN:VEVENT
UID:cnv6@192.168.245.71:3006
SEQUENCE:0
DTSTAMP:20260425T231302Z
DTSTART:20250919T090000Z
DTEND:20250919T104000Z
SUMMARY:Безопасность операционных систем
LOCATION:3 к. 310
END:VEVENT
END:VCALENDAR