BEGIN:VCALENDAR
VERSION:2.0
PRODID:-//spbstu.ru//ical//RU
NAME:Расписание группы 5131001/20502
X-WR-CALNAME:Расписание группы 5131001/20502
TIMEZONE-ID:Europe/Moscow
X-WR-TIMEZONE:Europe/Moscow
BEGIN:VEVENT
UID:kp35@192.168.245.71:3006
SEQUENCE:0
DTSTAMP:20260421T020034Z
DTSTART:20260420T070000Z
DTEND:20260420T075000Z
SUMMARY:Системы управления базами данных
LOCATION:ГЗ 223
END:VEVENT
BEGIN:VEVENT
UID:bf9z@192.168.245.71:3006
SEQUENCE:0
DTSTAMP:20260421T020034Z
DTSTART:20260420T080000Z
DTEND:20260420T134000Z
SUMMARY:Системы управления базами данных
LOCATION:ГЗ 223
END:VEVENT
BEGIN:VEVENT
UID:uyi3@192.168.245.71:3006
SEQUENCE:0
DTSTAMP:20260421T020034Z
DTSTART:20260421T070000Z
DTEND:20260421T104000Z
SUMMARY:Технологии машинного обучения в кибербезопасности
LOCATION:3 к. 309
END:VEVENT
BEGIN:VEVENT
UID:1jxy@192.168.245.71:3006
SEQUENCE:0
DTSTAMP:20260421T020034Z
DTSTART:20260422T053000Z
DTEND:20260422T142000Z
SUMMARY:Военная подготовка
LOCATION:Военная каф. кафедра
END:VEVENT
BEGIN:VEVENT
UID:r4ps@192.168.245.71:3006
SEQUENCE:0
DTSTAMP:20260421T020034Z
DTSTART:20260423T143000Z
DTEND:20260423T153000Z
SUMMARY:Криптографические методы защиты информации
LOCATION:ГЗ 237
END:VEVENT
BEGIN:VEVENT
UID:4e8u@192.168.245.71:3006
SEQUENCE:0
DTSTAMP:20260421T020034Z
DTSTART:20260424T080000Z
DTEND:20260424T134000Z
SUMMARY:Криптографические методы защиты информации
LOCATION:ГЗ 105
END:VEVENT
END:VCALENDAR