BEGIN:VCALENDAR
VERSION:2.0
PRODID:-//spbstu.ru//ical//RU
NAME:Расписание группы 5131001/20502
X-WR-CALNAME:Расписание группы 5131001/20502
TIMEZONE-ID:Europe/Moscow
X-WR-TIMEZONE:Europe/Moscow
BEGIN:VEVENT
UID:1fq8@192.168.245.71:3006
SEQUENCE:0
DTSTAMP:20260421T073130Z
DTSTART:20260513T053000Z
DTEND:20260513T142000Z
SUMMARY:Военная подготовка
LOCATION:Военная каф. кафедра
END:VEVENT
END:VCALENDAR