BEGIN:VCALENDAR
VERSION:2.0
PRODID:-//spbstu.ru//ical//RU
NAME:Расписание группы 5132701/20101
X-WR-CALNAME:Расписание группы 5132701/20101
TIMEZONE-ID:Europe/Moscow
X-WR-TIMEZONE:Europe/Moscow
BEGIN:VEVENT
UID:sku9@192.168.245.71:3006
SEQUENCE:0
DTSTAMP:20260425T025839Z
DTSTART:20251020T070000Z
DTEND:20251020T084000Z
SUMMARY:Физико-химические измерения в специфических условиях
LOCATION:3 к. 508
END:VEVENT
BEGIN:VEVENT
UID:bqbp@192.168.245.71:3006
SEQUENCE:0
DTSTAMP:20260425T025839Z
DTSTART:20251020T090000Z
DTEND:20251020T104000Z
SUMMARY:Испытания средств измерений для специфических условий
LOCATION:3 к. 508
END:VEVENT
BEGIN:VEVENT
UID:s7ha@192.168.245.71:3006
SEQUENCE:0
DTSTAMP:20260425T025839Z
DTSTART:20251020T110000Z
DTEND:20251020T124000Z
SUMMARY:Испытания средств измерений для специфических условий
LOCATION:3 к. 508
END:VEVENT
BEGIN:VEVENT
UID:p1lu@192.168.245.71:3006
SEQUENCE:0
DTSTAMP:20260425T025839Z
DTSTART:20251020T130000Z
DTEND:20251020T144000Z
SUMMARY:Физико-химические измерения в специфических условиях
LOCATION:3 к. 507
END:VEVENT
BEGIN:VEVENT
UID:cssc@192.168.245.71:3006
SEQUENCE:0
DTSTAMP:20260425T025839Z
DTSTART:20251022T053000Z
DTEND:20251022T142000Z
SUMMARY:Военная подготовка
LOCATION:Военная каф. кафедра
END:VEVENT
BEGIN:VEVENT
UID:2gv4@192.168.245.71:3006
SEQUENCE:0
DTSTAMP:20260425T025839Z
DTSTART:20251023T070000Z
DTEND:20251023T084000Z
SUMMARY:Измерительные системы для специфических условий
LOCATION:3 к. 508
END:VEVENT
BEGIN:VEVENT
UID:urpl@192.168.245.71:3006
SEQUENCE:0
DTSTAMP:20260425T025839Z
DTSTART:20251023T090000Z
DTEND:20251023T104000Z
SUMMARY:Измерительные системы для специфических условий
LOCATION:3 к. 508
END:VEVENT
BEGIN:VEVENT
UID:23nv@192.168.245.71:3006
SEQUENCE:0
DTSTAMP:20260425T025839Z
DTSTART:20251023T110000Z
DTEND:20251023T124000Z
SUMMARY:Виртуальные измерительные приборы
LOCATION:3 к. 400
END:VEVENT
BEGIN:VEVENT
UID:0nta@192.168.245.71:3006
SEQUENCE:0
DTSTAMP:20260425T025839Z
DTSTART:20251024T110000Z
DTEND:20251024T114000Z
SUMMARY:Интернет технологии для измерений в специфических условиях
LOCATION:3 к. 506
END:VEVENT
BEGIN:VEVENT
UID:pxdp@192.168.245.71:3006
SEQUENCE:0
DTSTAMP:20260425T025839Z
DTSTART:20251024T130000Z
DTEND:20251024T144000Z
SUMMARY:Интернет технологии для измерений в специфических условиях
LOCATION:3 к. 506
END:VEVENT
BEGIN:VEVENT
UID:7mxf@192.168.245.71:3006
SEQUENCE:0
DTSTAMP:20260425T025839Z
DTSTART:20251025T070000Z
DTEND:20251025T084000Z
SUMMARY:Обработка данных. Планирование эксперимента
LOCATION:3 к. 506
END:VEVENT
BEGIN:VEVENT
UID:erdq@192.168.245.71:3006
SEQUENCE:0
DTSTAMP:20260425T025839Z
DTSTART:20251025T090000Z
DTEND:20251025T104000Z
SUMMARY:Обработка данных. Планирование эксперимента
LOCATION:3 к. 506
END:VEVENT
BEGIN:VEVENT
UID:20nm@192.168.245.71:3006
SEQUENCE:0
DTSTAMP:20260425T025839Z
DTSTART:20251025T110000Z
DTEND:20251025T124000Z
SUMMARY:Обработка данных. Планирование эксперимента
LOCATION:3 к. 506
END:VEVENT
BEGIN:VEVENT
UID:ih24@192.168.245.71:3006
SEQUENCE:0
DTSTAMP:20260425T025839Z
DTSTART:20251025T130000Z
DTEND:20251025T144000Z
SUMMARY:Обработка данных. Планирование эксперимента
LOCATION:3 к. 506
END:VEVENT
END:VCALENDAR