BEGIN:VCALENDAR
VERSION:2.0
PRODID:-//spbstu.ru//ical//RU
NAME:Расписание группы 5132701/20101
X-WR-CALNAME:Расписание группы 5132701/20101
TIMEZONE-ID:Europe/Moscow
X-WR-TIMEZONE:Europe/Moscow
BEGIN:VEVENT
UID:nnam@192.168.245.71:3006
SEQUENCE:0
DTSTAMP:20260423T000302Z
DTSTART:20260119T130000Z
DTEND:20260119T144000Z
SUMMARY:Обработка данных. Планирование эксперимента
LOCATION:DL Дистанционно
END:VEVENT
BEGIN:VEVENT
UID:1bfp@192.168.245.71:3006
SEQUENCE:0
DTSTAMP:20260423T000302Z
DTSTART:20260120T070000Z
DTEND:20260120T140000Z
SUMMARY:Обработка данных. Планирование эксперимента
LOCATION:3 к. 506
END:VEVENT
BEGIN:VEVENT
UID:swd7@192.168.245.71:3006
SEQUENCE:0
DTSTAMP:20260423T000302Z
DTSTART:20260124T070000Z
DTEND:20260124T120000Z
SUMMARY:Интернет технологии для измерений в специфических условиях
LOCATION:3 к. 506
END:VEVENT
END:VCALENDAR