BEGIN:VCALENDAR
VERSION:2.0
PRODID:-//spbstu.ru//ical//RU
NAME:Расписание группы 5132703/20101
X-WR-CALNAME:Расписание группы 5132703/20101
TIMEZONE-ID:Europe/Moscow
X-WR-TIMEZONE:Europe/Moscow
BEGIN:VEVENT
UID:egbz@192.168.245.71:3006
SEQUENCE:0
DTSTAMP:20260423T225222Z
DTSTART:20251208T070000Z
DTEND:20251208T084000Z
SUMMARY:Корпоративные системы баз данных
LOCATION:9 к. 113
END:VEVENT
BEGIN:VEVENT
UID:mcuv@192.168.245.71:3006
SEQUENCE:0
DTSTAMP:20260423T225222Z
DTSTART:20251208T070000Z
DTEND:20251208T084000Z
SUMMARY:Корпоративные системы баз данных
LOCATION:9 к. 113
END:VEVENT
BEGIN:VEVENT
UID:yp8v@192.168.245.71:3006
SEQUENCE:0
DTSTAMP:20260423T225222Z
DTSTART:20251208T090000Z
DTEND:20251208T104000Z
SUMMARY:Управление распределенными системами
LOCATION:3 к. 502
END:VEVENT
BEGIN:VEVENT
UID:r64s@192.168.245.71:3006
SEQUENCE:0
DTSTAMP:20260423T225222Z
DTSTART:20251208T130000Z
DTEND:20251208T144000Z
SUMMARY:Корпоративные системы баз данных
LOCATION:3 к. 401
END:VEVENT
BEGIN:VEVENT
UID:gcks@192.168.245.71:3006
SEQUENCE:0
DTSTAMP:20260423T225222Z
DTSTART:20251209T110000Z
DTEND:20251209T124000Z
SUMMARY:Математические методы синтеза сложных информационных систем
LOCATION:3 к. 401
END:VEVENT
BEGIN:VEVENT
UID:uet7@192.168.245.71:3006
SEQUENCE:0
DTSTAMP:20260423T225222Z
DTSTART:20251210T053000Z
DTEND:20251210T142000Z
SUMMARY:Военная подготовка
LOCATION:Военная каф. кафедра
END:VEVENT
BEGIN:VEVENT
UID:df2u@192.168.245.71:3006
SEQUENCE:0
DTSTAMP:20260423T225222Z
DTSTART:20251213T070000Z
DTEND:20251213T084000Z
SUMMARY:Информационные технологии
LOCATION:11 к. 148
END:VEVENT
BEGIN:VEVENT
UID:cem6@192.168.245.71:3006
SEQUENCE:0
DTSTAMP:20260423T225222Z
DTSTART:20251213T090000Z
DTEND:20251213T104000Z
SUMMARY:Управление в открытых системах
LOCATION:9 к. 113
END:VEVENT
END:VCALENDAR