BEGIN:VCALENDAR
VERSION:2.0
PRODID:-//spbstu.ru//ical//RU
NAME:Расписание группы 5132703/20101
X-WR-CALNAME:Расписание группы 5132703/20101
TIMEZONE-ID:Europe/Moscow
X-WR-TIMEZONE:Europe/Moscow
BEGIN:VEVENT
UID:pzir@192.168.245.71:3006
SEQUENCE:0
DTSTAMP:20260422T111039Z
DTSTART:20260224T090000Z
DTEND:20260224T104000Z
SUMMARY:Интеллектуальные информационно-управляющие системы
LOCATION:3 к. 401
END:VEVENT
BEGIN:VEVENT
UID:c5hr@192.168.245.71:3006
SEQUENCE:0
DTSTAMP:20260422T111039Z
DTSTART:20260224T110000Z
DTEND:20260224T124000Z
SUMMARY:Интеллектуальные информационно-управляющие системы
LOCATION:3 к. 505
END:VEVENT
BEGIN:VEVENT
UID:mdad@192.168.245.71:3006
SEQUENCE:0
DTSTAMP:20260422T111039Z
DTSTART:20260225T053000Z
DTEND:20260225T142000Z
SUMMARY:Военная подготовка
LOCATION:Военная каф. кафедра
END:VEVENT
BEGIN:VEVENT
UID:2vyt@192.168.245.71:3006
SEQUENCE:0
DTSTAMP:20260422T111039Z
DTSTART:20260225T130000Z
DTEND:20260225T154000Z
SUMMARY:Корпоративные системы баз данных
LOCATION:9 к. 113
END:VEVENT
BEGIN:VEVENT
UID:y7j3@192.168.245.71:3006
SEQUENCE:0
DTSTAMP:20260422T111039Z
DTSTART:20260226T070000Z
DTEND:20260226T084000Z
SUMMARY:Математические методы синтеза сложных информационных систем
LOCATION:3 к. 404
END:VEVENT
BEGIN:VEVENT
UID:s009@192.168.245.71:3006
SEQUENCE:0
DTSTAMP:20260422T111039Z
DTSTART:20260226T130000Z
DTEND:20260226T144000Z
SUMMARY:Теория знаний
LOCATION:3 к. 505
END:VEVENT
BEGIN:VEVENT
UID:h2re@192.168.245.71:3006
SEQUENCE:0
DTSTAMP:20260422T111039Z
DTSTART:20260227T070000Z
DTEND:20260227T084000Z
SUMMARY:Управление распределенными системами
LOCATION:3 к. 506
END:VEVENT
BEGIN:VEVENT
UID:0i3m@192.168.245.71:3006
SEQUENCE:0
DTSTAMP:20260422T111039Z
DTSTART:20260227T090000Z
DTEND:20260227T104000Z
SUMMARY:Управление распределенными системами
LOCATION:3 к. 401
END:VEVENT
BEGIN:VEVENT
UID:97wq@192.168.245.71:3006
SEQUENCE:0
DTSTAMP:20260422T111039Z
DTSTART:20260228T110000Z
DTEND:20260228T124000Z
SUMMARY:Информационные технологии
LOCATION:9 к. 137
END:VEVENT
END:VCALENDAR