BEGIN:VCALENDAR
VERSION:2.0
PRODID:-//spbstu.ru//ical//RU
NAME:Расписание группы 5132703/20101
X-WR-CALNAME:Расписание группы 5132703/20101
TIMEZONE-ID:Europe/Moscow
X-WR-TIMEZONE:Europe/Moscow
BEGIN:VEVENT
UID:ojvg@192.168.245.71:3006
SEQUENCE:0
DTSTAMP:20260421T103046Z
DTSTART:20260414T090000Z
DTEND:20260414T104000Z
SUMMARY:Интеллектуальные информационно-управляющие системы
LOCATION:3 к. 401
END:VEVENT
BEGIN:VEVENT
UID:9dib@192.168.245.71:3006
SEQUENCE:0
DTSTAMP:20260421T103046Z
DTSTART:20260414T110000Z
DTEND:20260414T124000Z
SUMMARY:Интеллектуальные информационно-управляющие системы
LOCATION:3 к. 505
END:VEVENT
BEGIN:VEVENT
UID:vkes@192.168.245.71:3006
SEQUENCE:0
DTSTAMP:20260421T103046Z
DTSTART:20260414T130000Z
DTEND:20260414T154000Z
SUMMARY:Теория знаний
LOCATION:3 к. 401
END:VEVENT
BEGIN:VEVENT
UID:oo53@192.168.245.71:3006
SEQUENCE:0
DTSTAMP:20260421T103046Z
DTSTART:20260415T053000Z
DTEND:20260415T142000Z
SUMMARY:Военная подготовка
LOCATION:Военная каф. кафедра
END:VEVENT
BEGIN:VEVENT
UID:i39j@192.168.245.71:3006
SEQUENCE:0
DTSTAMP:20260421T103046Z
DTSTART:20260416T130000Z
DTEND:20260416T144000Z
SUMMARY:Теория знаний
LOCATION:3 к. 505
END:VEVENT
BEGIN:VEVENT
UID:p3c3@192.168.245.71:3006
SEQUENCE:0
DTSTAMP:20260421T103046Z
DTSTART:20260417T070000Z
DTEND:20260417T084000Z
SUMMARY:Управление распределенными системами
LOCATION:3 к. 506
END:VEVENT
BEGIN:VEVENT
UID:j96t@192.168.245.71:3006
SEQUENCE:0
DTSTAMP:20260421T103046Z
DTSTART:20260417T090000Z
DTEND:20260417T104000Z
SUMMARY:Управление распределенными системами
LOCATION:3 к. 401
END:VEVENT
END:VCALENDAR