BEGIN:VCALENDAR
VERSION:2.0
PRODID:-//spbstu.ru//ical//RU
NAME:Расписание группы 5132704/20502
X-WR-CALNAME:Расписание группы 5132704/20502
TIMEZONE-ID:Europe/Moscow
X-WR-TIMEZONE:Europe/Moscow
BEGIN:VEVENT
UID:jl4z@192.168.245.71:3006
SEQUENCE:0
DTSTAMP:20260423T225229Z
DTSTART:20251201T090000Z
DTEND:20251201T104000Z
SUMMARY:Дискретные системы
LOCATION:16 к. 414
END:VEVENT
BEGIN:VEVENT
UID:0sun@192.168.245.71:3006
SEQUENCE:0
DTSTAMP:20260423T225229Z
DTSTART:20251201T110000Z
DTEND:20251201T124000Z
SUMMARY:Проектная работа
LOCATION:16 к. 414
END:VEVENT
BEGIN:VEVENT
UID:od90@192.168.245.71:3006
SEQUENCE:0
DTSTAMP:20260423T225229Z
DTSTART:20251201T130000Z
DTEND:20251201T144000Z
SUMMARY:Теория автоматического управления
LOCATION:16 к. 310
END:VEVENT
BEGIN:VEVENT
UID:mrgb@192.168.245.71:3006
SEQUENCE:0
DTSTAMP:20260423T225229Z
DTSTART:20251202T090000Z
DTEND:20251202T104000Z
SUMMARY:Теория автоматического управления
LOCATION:DL Дистанционно
END:VEVENT
BEGIN:VEVENT
UID:3amh@192.168.245.71:3006
SEQUENCE:0
DTSTAMP:20260423T225229Z
DTSTART:20251203T053000Z
DTEND:20251203T142000Z
SUMMARY:Военная подготовка
LOCATION:Военная каф. кафедра
END:VEVENT
BEGIN:VEVENT
UID:k827@192.168.245.71:3006
SEQUENCE:0
DTSTAMP:20260423T225229Z
DTSTART:20251204T050000Z
DTEND:20251204T064000Z
SUMMARY:Комплексный проект \"Промышленные контроллеры и SCADA-системы\"
LOCATION:16 к. 314
END:VEVENT
BEGIN:VEVENT
UID:7d05@192.168.245.71:3006
SEQUENCE:0
DTSTAMP:20260423T225229Z
DTSTART:20251204T070000Z
DTEND:20251204T084000Z
SUMMARY:Моделирование систем управления
LOCATION:16 к. 414
END:VEVENT
BEGIN:VEVENT
UID:e9jr@192.168.245.71:3006
SEQUENCE:0
DTSTAMP:20260423T225229Z
DTSTART:20251204T090000Z
DTEND:20251204T104000Z
SUMMARY:Дискретные системы
LOCATION:16 к. 315
END:VEVENT
BEGIN:VEVENT
UID:u0em@192.168.245.71:3006
SEQUENCE:0
DTSTAMP:20260423T225229Z
DTSTART:20251204T110000Z
DTEND:20251204T124000Z
SUMMARY:Моделирование систем управления
LOCATION:16 к. 311
END:VEVENT
BEGIN:VEVENT
UID:3du6@192.168.245.71:3006
SEQUENCE:0
DTSTAMP:20260423T225229Z
DTSTART:20251205T090000Z
DTEND:20251205T104000Z
SUMMARY:Кибер-физические системы
LOCATION:16 к. 419
END:VEVENT
BEGIN:VEVENT
UID:2dsc@192.168.245.71:3006
SEQUENCE:0
DTSTAMP:20260423T225229Z
DTSTART:20251205T110000Z
DTEND:20251205T124000Z
SUMMARY:Кибер-физические системы
LOCATION:16 к. 414
END:VEVENT
BEGIN:VEVENT
UID:kb2o@192.168.245.71:3006
SEQUENCE:0
DTSTAMP:20260423T225229Z
DTSTART:20251206T070000Z
DTEND:20251206T084000Z
SUMMARY:Проектирование интеллектуальных систем управления
LOCATION:16 к. 414
END:VEVENT
BEGIN:VEVENT
UID:ktwm@192.168.245.71:3006
SEQUENCE:0
DTSTAMP:20260423T225229Z
DTSTART:20251206T090000Z
DTEND:20251206T104000Z
SUMMARY:Комплексный проект \"Промышленные контроллеры и SCADA-системы\"
LOCATION:16 к. 419
END:VEVENT
BEGIN:VEVENT
UID:fpty@192.168.245.71:3006
SEQUENCE:0
DTSTAMP:20260423T225229Z
DTSTART:20251206T110000Z
DTEND:20251206T124000Z
SUMMARY:Системное программное обеспечение автоматизированных систем управл
 ения
LOCATION:16 к. 414
END:VEVENT
BEGIN:VEVENT
UID:vaqz@192.168.245.71:3006
SEQUENCE:0
DTSTAMP:20260423T225229Z
DTSTART:20251206T130000Z
DTEND:20251206T144000Z
SUMMARY:Системное программное обеспечение автоматизированных систем управл
 ения
LOCATION:16 к. 311
END:VEVENT
END:VCALENDAR