BEGIN:VCALENDAR
VERSION:2.0
PRODID:-//spbstu.ru//ical//RU
NAME:Расписание группы 5132704/20502
X-WR-CALNAME:Расписание группы 5132704/20502
TIMEZONE-ID:Europe/Moscow
X-WR-TIMEZONE:Europe/Moscow
BEGIN:VEVENT
UID:z775@192.168.245.71:3006
SEQUENCE:0
DTSTAMP:20260421T110500Z
DTSTART:20260430T090000Z
DTEND:20260430T122000Z
SUMMARY:Промышленный интернет вещей и кибер-физические системы
LOCATION:16 к. 310
END:VEVENT
END:VCALENDAR