BEGIN:VCALENDAR
VERSION:2.0
PRODID:-//spbstu.ru//ical//RU
NAME:Расписание группы 5151001/20201
X-WR-CALNAME:Расписание группы 5151001/20201
TIMEZONE-ID:Europe/Moscow
X-WR-TIMEZONE:Europe/Moscow
BEGIN:VEVENT
UID:8b53@192.168.245.71:3006
SEQUENCE:0
DTSTAMP:20260425T101546Z
DTSTART:20260119T070000Z
DTEND:20260119T075000Z
SUMMARY:Криптографические методы защиты информации
LOCATION:ГЗ 175
END:VEVENT
BEGIN:VEVENT
UID:iycp@192.168.245.71:3006
SEQUENCE:0
DTSTAMP:20260425T101546Z
DTSTART:20260119T080000Z
DTEND:20260119T124000Z
SUMMARY:Криптографические методы защиты информации
LOCATION:ГЗ 175
END:VEVENT
BEGIN:VEVENT
UID:vqa3@192.168.245.71:3006
SEQUENCE:0
DTSTAMP:20260425T101546Z
DTSTART:20260120T130000Z
DTEND:20260120T144000Z
SUMMARY:Научно-исследовательская работа
LOCATION:ГЗ 170 А
END:VEVENT
BEGIN:VEVENT
UID:kixg@192.168.245.71:3006
SEQUENCE:0
DTSTAMP:20260425T101546Z
DTSTART:20260121T110000Z
DTEND:20260121T124000Z
SUMMARY:Безопасность операционных систем
LOCATION:3 к. 310
END:VEVENT
END:VCALENDAR