BEGIN:VCALENDAR
VERSION:2.0
PRODID:-//spbstu.ru//ical//RU
NAME:Расписание группы 5151001/20201
X-WR-CALNAME:Расписание группы 5151001/20201
TIMEZONE-ID:Europe/Moscow
X-WR-TIMEZONE:Europe/Moscow
BEGIN:VEVENT
UID:3rik@192.168.245.71:3006
SEQUENCE:0
DTSTAMP:20260424T184218Z
DTSTART:20260209T070000Z
DTEND:20260209T084000Z
SUMMARY:Безопасность интернет-приложений
LOCATION:ГЗ 215
END:VEVENT
BEGIN:VEVENT
UID:qff5@192.168.245.71:3006
SEQUENCE:0
DTSTAMP:20260424T184218Z
DTSTART:20260209T090000Z
DTEND:20260209T104000Z
SUMMARY:Программно-аппаратные средства обеспечения информационной безопасн
 ости
LOCATION:ГЗ 153
END:VEVENT
BEGIN:VEVENT
UID:iuhl@192.168.245.71:3006
SEQUENCE:0
DTSTAMP:20260424T184218Z
DTSTART:20260209T110000Z
DTEND:20260209T124000Z
SUMMARY:Криптографические методы защиты информации
LOCATION:ГЗ 224
END:VEVENT
BEGIN:VEVENT
UID:deft@192.168.245.71:3006
SEQUENCE:0
DTSTAMP:20260424T184218Z
DTSTART:20260209T130000Z
DTEND:20260209T144000Z
SUMMARY:Техническая защита информации
LOCATION:ГЗ 284
END:VEVENT
BEGIN:VEVENT
UID:1xso@192.168.245.71:3006
SEQUENCE:0
DTSTAMP:20260424T184218Z
DTSTART:20260210T070000Z
DTEND:20260210T084000Z
SUMMARY:Криптографические методы защиты информации
LOCATION:ГЗ 165
END:VEVENT
BEGIN:VEVENT
UID:2mu8@192.168.245.71:3006
SEQUENCE:0
DTSTAMP:20260424T184218Z
DTSTART:20260210T090000Z
DTEND:20260210T104000Z
SUMMARY:Безопасность интернет-приложений
LOCATION:ГЗ 103
END:VEVENT
BEGIN:VEVENT
UID:z441@192.168.245.71:3006
SEQUENCE:0
DTSTAMP:20260424T184218Z
DTSTART:20260210T110000Z
DTEND:20260210T124000Z
SUMMARY:Программно-аппаратные средства обеспечения информационной безопасн
 ости
LOCATION:11 к. 323
END:VEVENT
BEGIN:VEVENT
UID:9zo5@192.168.245.71:3006
SEQUENCE:0
DTSTAMP:20260424T184218Z
DTSTART:20260211T053000Z
DTEND:20260211T142000Z
SUMMARY:Военная подготовка
LOCATION:Военная каф. кафедра
END:VEVENT
BEGIN:VEVENT
UID:8otk@192.168.245.71:3006
SEQUENCE:0
DTSTAMP:20260424T184218Z
DTSTART:20260212T090000Z
DTEND:20260212T104000Z
SUMMARY:Безопасность операционных систем
LOCATION:ГЗ 105
END:VEVENT
BEGIN:VEVENT
UID:igyc@192.168.245.71:3006
SEQUENCE:0
DTSTAMP:20260424T184218Z
DTSTART:20260212T110000Z
DTEND:20260212T124000Z
SUMMARY:Системы управления базами данных
LOCATION:ГЗ 175
END:VEVENT
BEGIN:VEVENT
UID:ip2n@192.168.245.71:3006
SEQUENCE:0
DTSTAMP:20260424T184218Z
DTSTART:20260212T130000Z
DTEND:20260212T144000Z
SUMMARY:Техническая защита информации
LOCATION:ГЗ 170 А
END:VEVENT
BEGIN:VEVENT
UID:wv30@192.168.245.71:3006
SEQUENCE:0
DTSTAMP:20260424T184218Z
DTSTART:20260213T070000Z
DTEND:20260213T084000Z
SUMMARY:Системы управления базами данных
LOCATION:11 к. 143
END:VEVENT
BEGIN:VEVENT
UID:26j6@192.168.245.71:3006
SEQUENCE:0
DTSTAMP:20260424T184218Z
DTSTART:20260213T090000Z
DTEND:20260213T104000Z
SUMMARY:Безопасность операционных систем
LOCATION:11 к. 143
END:VEVENT
BEGIN:VEVENT
UID:gpf8@192.168.245.71:3006
SEQUENCE:0
DTSTAMP:20260424T184218Z
DTSTART:20260213T110000Z
DTEND:20260213T124000Z
SUMMARY:Быстрые вычислительные алгоритмы
LOCATION:11 к. 319
END:VEVENT
BEGIN:VEVENT
UID:lvuj@192.168.245.71:3006
SEQUENCE:0
DTSTAMP:20260424T184218Z
DTSTART:20260213T130000Z
DTEND:20260213T144000Z
SUMMARY:Криптографические методы защиты информации
LOCATION:11 к. 324
END:VEVENT
BEGIN:VEVENT
UID:6xxu@192.168.245.71:3006
SEQUENCE:0
DTSTAMP:20260424T184218Z
DTSTART:20260213T150000Z
DTEND:20260213T164000Z
SUMMARY:Методы алгебраической геометрии в криптографии
LOCATION:11 к. 336
END:VEVENT
END:VCALENDAR