BEGIN:VCALENDAR
VERSION:2.0
PRODID:-//spbstu.ru//ical//RU
NAME:Расписание группы 5151001/20201
X-WR-CALNAME:Расписание группы 5151001/20201
TIMEZONE-ID:Europe/Moscow
X-WR-TIMEZONE:Europe/Moscow
BEGIN:VEVENT
UID:rpn7@192.168.245.71:3006
SEQUENCE:0
DTSTAMP:20260421T204221Z
DTSTART:20260323T070000Z
DTEND:20260323T084000Z
SUMMARY:Безопасность интернет-приложений
LOCATION:ГЗ 215
END:VEVENT
BEGIN:VEVENT
UID:63uv@192.168.245.71:3006
SEQUENCE:0
DTSTAMP:20260421T204221Z
DTSTART:20260323T090000Z
DTEND:20260323T104000Z
SUMMARY:Программно-аппаратные средства обеспечения информационной безопасн
 ости
LOCATION:ГЗ 153
END:VEVENT
BEGIN:VEVENT
UID:wdml@192.168.245.71:3006
SEQUENCE:0
DTSTAMP:20260421T204221Z
DTSTART:20260323T110000Z
DTEND:20260323T124000Z
SUMMARY:Криптографические методы защиты информации
LOCATION:ГЗ 224
END:VEVENT
BEGIN:VEVENT
UID:rf2x@192.168.245.71:3006
SEQUENCE:0
DTSTAMP:20260421T204221Z
DTSTART:20260323T130000Z
DTEND:20260323T144000Z
SUMMARY:Техническая защита информации
LOCATION:ГЗ 284
END:VEVENT
BEGIN:VEVENT
UID:gq1y@192.168.245.71:3006
SEQUENCE:0
DTSTAMP:20260421T204221Z
DTSTART:20260324T070000Z
DTEND:20260324T084000Z
SUMMARY:Криптографические методы защиты информации
LOCATION:ГЗ 165
END:VEVENT
BEGIN:VEVENT
UID:q4jy@192.168.245.71:3006
SEQUENCE:0
DTSTAMP:20260421T204221Z
DTSTART:20260324T090000Z
DTEND:20260324T104000Z
SUMMARY:Безопасность интернет-приложений
LOCATION:ГЗ 103
END:VEVENT
BEGIN:VEVENT
UID:9qx0@192.168.245.71:3006
SEQUENCE:0
DTSTAMP:20260421T204221Z
DTSTART:20260324T110000Z
DTEND:20260324T124000Z
SUMMARY:Программно-аппаратные средства обеспечения информационной безопасн
 ости
LOCATION:11 к. 323
END:VEVENT
BEGIN:VEVENT
UID:xjdv@192.168.245.71:3006
SEQUENCE:0
DTSTAMP:20260421T204221Z
DTSTART:20260324T144500Z
DTEND:20260324T153000Z
SUMMARY:Основы искусственного интеллекта
LOCATION:ГЗ 175
END:VEVENT
BEGIN:VEVENT
UID:dxj5@192.168.245.71:3006
SEQUENCE:0
DTSTAMP:20260421T204221Z
DTSTART:20260325T053000Z
DTEND:20260325T142000Z
SUMMARY:Военная подготовка
LOCATION:Военная каф. кафедра
END:VEVENT
BEGIN:VEVENT
UID:ievr@192.168.245.71:3006
SEQUENCE:0
DTSTAMP:20260421T204221Z
DTSTART:20260325T110000Z
DTEND:20260325T144000Z
SUMMARY:Научно-исследовательская работа
LOCATION:ГЗ 173
END:VEVENT
BEGIN:VEVENT
UID:a7c6@192.168.245.71:3006
SEQUENCE:0
DTSTAMP:20260421T204221Z
DTSTART:20260326T090000Z
DTEND:20260326T104000Z
SUMMARY:Безопасность операционных систем
LOCATION:ГЗ 105
END:VEVENT
BEGIN:VEVENT
UID:an6t@192.168.245.71:3006
SEQUENCE:0
DTSTAMP:20260421T204221Z
DTSTART:20260326T110000Z
DTEND:20260326T124000Z
SUMMARY:Системы управления базами данных
LOCATION:ГЗ 175
END:VEVENT
BEGIN:VEVENT
UID:uk2e@192.168.245.71:3006
SEQUENCE:0
DTSTAMP:20260421T204221Z
DTSTART:20260326T130000Z
DTEND:20260326T144000Z
SUMMARY:Техническая защита информации
LOCATION:ГЗ 170 А
END:VEVENT
BEGIN:VEVENT
UID:hufc@192.168.245.71:3006
SEQUENCE:0
DTSTAMP:20260421T204221Z
DTSTART:20260327T070000Z
DTEND:20260327T084000Z
SUMMARY:Системы управления базами данных
LOCATION:11 к. 143
END:VEVENT
BEGIN:VEVENT
UID:3wel@192.168.245.71:3006
SEQUENCE:0
DTSTAMP:20260421T204221Z
DTSTART:20260327T090000Z
DTEND:20260327T104000Z
SUMMARY:Безопасность операционных систем
LOCATION:11 к. 143
END:VEVENT
BEGIN:VEVENT
UID:scp8@192.168.245.71:3006
SEQUENCE:0
DTSTAMP:20260421T204221Z
DTSTART:20260327T110000Z
DTEND:20260327T124000Z
SUMMARY:Быстрые вычислительные алгоритмы
LOCATION:11 к. 319
END:VEVENT
BEGIN:VEVENT
UID:8swi@192.168.245.71:3006
SEQUENCE:0
DTSTAMP:20260421T204221Z
DTSTART:20260327T130000Z
DTEND:20260327T144000Z
SUMMARY:Криптографические методы защиты информации
LOCATION:11 к. 324
END:VEVENT
END:VCALENDAR