BEGIN:VCALENDAR
VERSION:2.0
PRODID:-//spbstu.ru//ical//RU
NAME:Расписание группы 5151001/10201
X-WR-CALNAME:Расписание группы 5151001/10201
TIMEZONE-ID:Europe/Moscow
X-WR-TIMEZONE:Europe/Moscow
BEGIN:VEVENT
UID:x57b@192.168.245.71:3006
SEQUENCE:0
DTSTAMP:20260421T070926Z
DTSTART:20260428T110000Z
DTEND:20260428T132500Z
SUMMARY:Криптографические протоколы
LOCATION:3 к. 309
END:VEVENT
BEGIN:VEVENT
UID:jk7o@192.168.245.71:3006
SEQUENCE:0
DTSTAMP:20260421T070926Z
DTSTART:20260428T134000Z
DTEND:20260428T153000Z
SUMMARY:Криптографические протоколы
LOCATION:3 к. 309
END:VEVENT
BEGIN:VEVENT
UID:69mk@192.168.245.71:3006
SEQUENCE:0
DTSTAMP:20260421T070926Z
DTSTART:20260429T070000Z
DTEND:20260429T084000Z
SUMMARY:Анализ инцидентов кибербезопасности
LOCATION:ГЗ 103
END:VEVENT
BEGIN:VEVENT
UID:93og@192.168.245.71:3006
SEQUENCE:0
DTSTAMP:20260421T070926Z
DTSTART:20260429T090000Z
DTEND:20260429T104000Z
SUMMARY:Анализ безопасности встроенного программного обеспечения
LOCATION:ГЗ 175
END:VEVENT
BEGIN:VEVENT
UID:5r2h@192.168.245.71:3006
SEQUENCE:0
DTSTAMP:20260421T070926Z
DTSTART:20260429T110000Z
DTEND:20260429T124000Z
SUMMARY:Анализ инцидентов кибербезопасности
LOCATION:ГЗ 175
END:VEVENT
BEGIN:VEVENT
UID:mv1d@192.168.245.71:3006
SEQUENCE:0
DTSTAMP:20260421T070926Z
DTSTART:20260429T130000Z
DTEND:20260429T144000Z
SUMMARY:Аудит безопасности программного обеспечения
LOCATION:ГЗ 175
END:VEVENT
BEGIN:VEVENT
UID:ex54@192.168.245.71:3006
SEQUENCE:0
DTSTAMP:20260421T070926Z
DTSTART:20260430T070000Z
DTEND:20260430T084000Z
SUMMARY:Обеспечение безопасности пользовательских данных в сети Интернет
LOCATION:3 к. 307
END:VEVENT
BEGIN:VEVENT
UID:l9cs@192.168.245.71:3006
SEQUENCE:0
DTSTAMP:20260421T070926Z
DTSTART:20260430T090000Z
DTEND:20260430T104000Z
SUMMARY:Аудит безопасности программного обеспечения
LOCATION:3 к. 309
END:VEVENT
BEGIN:VEVENT
UID:5mkm@192.168.245.71:3006
SEQUENCE:0
DTSTAMP:20260421T070926Z
DTSTART:20260430T110000Z
DTEND:20260430T124000Z
SUMMARY:Этика профессиональной деятельности специалиста по кибербезопаснос
 ти
LOCATION:3 к. 501
END:VEVENT
BEGIN:VEVENT
UID:5nyq@192.168.245.71:3006
SEQUENCE:0
DTSTAMP:20260421T070926Z
DTSTART:20260430T130000Z
DTEND:20260430T144000Z
SUMMARY:Этика профессиональной деятельности специалиста по кибербезопаснос
 ти
LOCATION:3 к. 210
END:VEVENT
END:VCALENDAR