BEGIN:VCALENDAR
VERSION:2.0
PRODID:-//spbstu.ru//ical//RU
NAME:Расписание группы з5130902/50002
X-WR-CALNAME:Расписание группы з5130902/50002
TIMEZONE-ID:Europe/Moscow
X-WR-TIMEZONE:Europe/Moscow
BEGIN:VEVENT
UID:yei6@192.168.245.71:3006
SEQUENCE:0
DTSTAMP:20260424T231759Z
DTSTART:20260119T070000Z
DTEND:20260119T084000Z
SUMMARY:Алгоритмизация и программирование
LOCATION:DL Дистанционно
END:VEVENT
BEGIN:VEVENT
UID:8xl1@192.168.245.71:3006
SEQUENCE:0
DTSTAMP:20260424T231759Z
DTSTART:20260119T090000Z
DTEND:20260119T104000Z
SUMMARY:Алгоритмизация и программирование
LOCATION:DL Дистанционно
END:VEVENT
BEGIN:VEVENT
UID:7yl2@192.168.245.71:3006
SEQUENCE:0
DTSTAMP:20260424T231759Z
DTSTART:20260119T110000Z
DTEND:20260119T124000Z
SUMMARY:Основы цифровых технологий
LOCATION:DL Дистанционно
END:VEVENT
BEGIN:VEVENT
UID:i7b2@192.168.245.71:3006
SEQUENCE:0
DTSTAMP:20260424T231759Z
DTSTART:20260120T070000Z
DTEND:20260120T084000Z
SUMMARY:Физика
LOCATION:DL Дистанционно
END:VEVENT
BEGIN:VEVENT
UID:g45k@192.168.245.71:3006
SEQUENCE:0
DTSTAMP:20260424T231759Z
DTSTART:20260120T090000Z
DTEND:20260120T124000Z
SUMMARY:Физика
LOCATION:DL Дистанционно
END:VEVENT
BEGIN:VEVENT
UID:zv9g@192.168.245.71:3006
SEQUENCE:0
DTSTAMP:20260424T231759Z
DTSTART:20260120T130000Z
DTEND:20260120T144000Z
SUMMARY:Основы российской государственности
LOCATION:DL Дистанционно
END:VEVENT
BEGIN:VEVENT
UID:7gdf@192.168.245.71:3006
SEQUENCE:0
DTSTAMP:20260424T231759Z
DTSTART:20260121T070000Z
DTEND:20260121T084000Z
SUMMARY:Высшая математика
LOCATION:DL Дистанционно
END:VEVENT
BEGIN:VEVENT
UID:72f4@192.168.245.71:3006
SEQUENCE:0
DTSTAMP:20260424T231759Z
DTSTART:20260121T090000Z
DTEND:20260121T124000Z
SUMMARY:Высшая математика
LOCATION:DL Дистанционно
END:VEVENT
BEGIN:VEVENT
UID:4k2y@192.168.245.71:3006
SEQUENCE:0
DTSTAMP:20260424T231759Z
DTSTART:20260122T070000Z
DTEND:20260122T103000Z
SUMMARY:Иностранный язык: Базовый курс
LOCATION:DL Дистанционно
END:VEVENT
BEGIN:VEVENT
UID:gfag@192.168.245.71:3006
SEQUENCE:0
DTSTAMP:20260424T231759Z
DTSTART:20260122T110000Z
DTEND:20260122T140000Z
SUMMARY:История России
LOCATION:DL Дистанционно
END:VEVENT
BEGIN:VEVENT
UID:v9kc@192.168.245.71:3006
SEQUENCE:0
DTSTAMP:20260424T231759Z
DTSTART:20260122T150000Z
DTEND:20260122T164000Z
SUMMARY:Структуры данных
LOCATION:DL Дистанционно
END:VEVENT
BEGIN:VEVENT
UID:xzz4@192.168.245.71:3006
SEQUENCE:0
DTSTAMP:20260424T231759Z
DTSTART:20260123T070000Z
DTEND:20260123T084000Z
SUMMARY:Экономическая культура
LOCATION:DL Дистанционно
END:VEVENT
BEGIN:VEVENT
UID:hiyp@192.168.245.71:3006
SEQUENCE:0
DTSTAMP:20260424T231759Z
DTSTART:20260123T090000Z
DTEND:20260123T104000Z
SUMMARY:Философия
LOCATION:DL Дистанционно
END:VEVENT
BEGIN:VEVENT
UID:f0nn@192.168.245.71:3006
SEQUENCE:0
DTSTAMP:20260424T231759Z
DTSTART:20260123T110000Z
DTEND:20260123T124000Z
SUMMARY:Физическая культура
LOCATION:DL Дистанционно
END:VEVENT
END:VCALENDAR