BEGIN:VCALENDAR
VERSION:2.0
PRODID:-//spbstu.ru//ical//RU
NAME:Расписание группы з5140902/50401
X-WR-CALNAME:Расписание группы з5140902/50401
TIMEZONE-ID:Europe/Moscow
X-WR-TIMEZONE:Europe/Moscow
BEGIN:VEVENT
UID:vt2o@192.168.245.71:3006
SEQUENCE:0
DTSTAMP:20260423T222631Z
DTSTART:20260408T150000Z
DTEND:20260408T180000Z
SUMMARY:Корпоративные информационные системы
LOCATION:DL Дистанционно
END:VEVENT
BEGIN:VEVENT
UID:7q1v@192.168.245.71:3006
SEQUENCE:0
DTSTAMP:20260423T222631Z
DTSTART:20260409T070000Z
DTEND:20260409T100000Z
SUMMARY:Информационная безопасность и защита информации
LOCATION:DL Дистанционно
END:VEVENT
BEGIN:VEVENT
UID:iclw@192.168.245.71:3006
SEQUENCE:0
DTSTAMP:20260423T222631Z
DTSTART:20260409T133000Z
DTEND:20260409T163000Z
SUMMARY:Проектная деятельность
LOCATION:DL Дистанционно
END:VEVENT
END:VCALENDAR