BEGIN:VCALENDAR
VERSION:2.0
PRODID:-//spbstu.ru//ical//RU
NAME:Расписание группы з5130903/40002
X-WR-CALNAME:Расписание группы з5130903/40002
TIMEZONE-ID:Europe/Moscow
X-WR-TIMEZONE:Europe/Moscow
BEGIN:VEVENT
UID:ck8l@192.168.245.71:3006
SEQUENCE:0
DTSTAMP:20260423T151150Z
DTSTART:20260404T110000Z
DTEND:20260404T124000Z
SUMMARY:Иностранный  язык: Базовый курс
LOCATION:DL Дистанционно
END:VEVENT
END:VCALENDAR