BEGIN:VCALENDAR
VERSION:2.0
PRODID:-//spbstu.ru//ical//RU
NAME:Расписание группы з5130903/30301
X-WR-CALNAME:Расписание группы з5130903/30301
TIMEZONE-ID:Europe/Moscow
X-WR-TIMEZONE:Europe/Moscow
BEGIN:VEVENT
UID:ctw1@192.168.245.71:3006
SEQUENCE:0
DTSTAMP:20260422T172813Z
DTSTART:20260224T110000Z
DTEND:20260224T124000Z
SUMMARY:Верстка и прототипирование сайтов
LOCATION:DL Дистанционно
END:VEVENT
BEGIN:VEVENT
UID:84eu@192.168.245.71:3006
SEQUENCE:0
DTSTAMP:20260422T172813Z
DTSTART:20260224T130000Z
DTEND:20260224T144000Z
SUMMARY:Верстка и прототипирование сайтов
LOCATION:DL Дистанционно
END:VEVENT
BEGIN:VEVENT
UID:secy@192.168.245.71:3006
SEQUENCE:0
DTSTAMP:20260422T172813Z
DTSTART:20260225T140000Z
DTEND:20260225T150000Z
SUMMARY:Технология объектно-ориентированного программирования
LOCATION:DL Дистанционно
END:VEVENT
BEGIN:VEVENT
UID:p564@192.168.245.71:3006
SEQUENCE:0
DTSTAMP:20260422T172813Z
DTSTART:20260227T150000Z
DTEND:20260227T164000Z
SUMMARY:Архитектура вычислительных систем
LOCATION:DL Дистанционно
END:VEVENT
BEGIN:VEVENT
UID:jmqo@192.168.245.71:3006
SEQUENCE:0
DTSTAMP:20260422T172813Z
DTSTART:20260228T110000Z
DTEND:20260228T124000Z
SUMMARY:Архитектура вычислительных систем
LOCATION:DL Дистанционно
END:VEVENT
END:VCALENDAR