BEGIN:VCALENDAR
VERSION:2.0
PRODID:-//spbstu.ru//ical//RU
NAME:Расписание группы 5341503/51301
X-WR-CALNAME:Расписание группы 5341503/51301
TIMEZONE-ID:Europe/Moscow
X-WR-TIMEZONE:Europe/Moscow
BEGIN:VEVENT
UID:qnu1@192.168.245.71:3006
SEQUENCE:0
DTSTAMP:20260426T011842Z
DTSTART:20260323T150000Z
DTEND:20260323T164000Z
SUMMARY:Проектирование атомных и термоядерных реакторов
LOCATION:НИК Г3.08
END:VEVENT
BEGIN:VEVENT
UID:91mf@192.168.245.71:3006
SEQUENCE:0
DTSTAMP:20260426T011842Z
DTSTART:20260323T170000Z
DTEND:20260323T184000Z
SUMMARY:Проектирование атомных и термоядерных реакторов
LOCATION:НИК Г3.08
END:VEVENT
BEGIN:VEVENT
UID:biss@192.168.245.71:3006
SEQUENCE:0
DTSTAMP:20260426T011842Z
DTSTART:20260325T090000Z
DTEND:20260325T104000Z
SUMMARY:Вычислительная гидроаэродинамика
LOCATION:4 к. 300-А
END:VEVENT
BEGIN:VEVENT
UID:eevq@192.168.245.71:3006
SEQUENCE:0
DTSTAMP:20260426T011842Z
DTSTART:20260325T110000Z
DTEND:20260325T124000Z
SUMMARY:Научно-исследовательский семинар
LOCATION:НИК Г3.59
END:VEVENT
BEGIN:VEVENT
UID:vaud@192.168.245.71:3006
SEQUENCE:0
DTSTAMP:20260426T011842Z
DTSTART:20260325T130000Z
DTEND:20260325T144000Z
SUMMARY:Идентификация и диагностика сложных систем
LOCATION:НИК Г3.01
END:VEVENT
BEGIN:VEVENT
UID:1vw9@192.168.245.71:3006
SEQUENCE:0
DTSTAMP:20260426T011842Z
DTSTART:20260325T150000Z
DTEND:20260325T164000Z
SUMMARY:Вычислительная гидроаэродинамика
LOCATION:НИК В2.21 (1)
END:VEVENT
BEGIN:VEVENT
UID:g0cs@192.168.245.71:3006
SEQUENCE:0
DTSTAMP:20260426T011842Z
DTSTART:20260326T070000Z
DTEND:20260326T084000Z
SUMMARY:Механика разрушения
LOCATION:НИК Г3.03
END:VEVENT
BEGIN:VEVENT
UID:c36x@192.168.245.71:3006
SEQUENCE:0
DTSTAMP:20260426T011842Z
DTSTART:20260326T090000Z
DTEND:20260326T104000Z
SUMMARY:Механика разрушения
LOCATION:НИК Г3.03
END:VEVENT
BEGIN:VEVENT
UID:x6im@192.168.245.71:3006
SEQUENCE:0
DTSTAMP:20260426T011842Z
DTSTART:20260326T110000Z
DTEND:20260326T124000Z
SUMMARY:Экспериментальные исследования и лабораторный практикум
LOCATION:1 к. вибролаб. МПУ
END:VEVENT
BEGIN:VEVENT
UID:63t6@192.168.245.71:3006
SEQUENCE:0
DTSTAMP:20260426T011842Z
DTSTART:20260326T130000Z
DTEND:20260326T144000Z
SUMMARY:Спец.главы физики атомного ядра и плазмы
LOCATION:НИК Г3.59
END:VEVENT
END:VCALENDAR