BEGIN:VCALENDAR
VERSION:2.0
PRODID:-//spbstu.ru//ical//RU
NAME:Расписание группы 5341503/51301
X-WR-CALNAME:Расписание группы 5341503/51301
TIMEZONE-ID:Europe/Moscow
X-WR-TIMEZONE:Europe/Moscow
BEGIN:VEVENT
UID:x2ph@192.168.245.71:3006
SEQUENCE:0
DTSTAMP:20260426T031527Z
DTSTART:20260521T090000Z
DTEND:20260521T104000Z
SUMMARY:Механика разрушения
LOCATION:НИК Г3.08
END:VEVENT
END:VCALENDAR