BEGIN:VCALENDAR
VERSION:2.0
PRODID:-//spbstu.ru//ical//RU
NAME:Расписание группы 5342703/50301
X-WR-CALNAME:Расписание группы 5342703/50301
TIMEZONE-ID:Europe/Moscow
X-WR-TIMEZONE:Europe/Moscow
BEGIN:VEVENT
UID:8nz9@192.168.245.71:3006
SEQUENCE:0
DTSTAMP:20260424T094328Z
DTSTART:20251020T130000Z
DTEND:20251020T144000Z
SUMMARY:Современные проблемы теории автоматического управления
LOCATION:3 к. 406
END:VEVENT
BEGIN:VEVENT
UID:r8qq@192.168.245.71:3006
SEQUENCE:0
DTSTAMP:20260424T094328Z
DTSTART:20251020T150000Z
DTEND:20251020T164000Z
SUMMARY:Современные проблемы теории автоматического управления
LOCATION:3 к. 406
END:VEVENT
BEGIN:VEVENT
UID:227c@192.168.245.71:3006
SEQUENCE:0
DTSTAMP:20260424T094328Z
DTSTART:20251021T130000Z
DTEND:20251021T144000Z
SUMMARY:Математические модели технических объектов управления
LOCATION:НИК В2.21 (1)
END:VEVENT
BEGIN:VEVENT
UID:cw3g@192.168.245.71:3006
SEQUENCE:0
DTSTAMP:20260424T094328Z
DTSTART:20251021T150000Z
DTEND:20251021T164000Z
SUMMARY:Математические модели технических объектов управления
LOCATION:НИК В2.21 (1)
END:VEVENT
BEGIN:VEVENT
UID:gcke@192.168.245.71:3006
SEQUENCE:0
DTSTAMP:20260424T094328Z
DTSTART:20251021T170000Z
DTEND:20251021T184000Z
SUMMARY:Математические модели технических объектов управления
LOCATION:НИК В2.21 (1)
END:VEVENT
BEGIN:VEVENT
UID:ge4o@192.168.245.71:3006
SEQUENCE:0
DTSTAMP:20260424T094328Z
DTSTART:20251022T130000Z
DTEND:20251022T144000Z
SUMMARY:Управление инновационным проектом
LOCATION:3 к. 406
END:VEVENT
BEGIN:VEVENT
UID:ibxz@192.168.245.71:3006
SEQUENCE:0
DTSTAMP:20260424T094328Z
DTSTART:20251022T150000Z
DTEND:20251022T164000Z
SUMMARY:Цифровые ресурсы в научном исследовании
LOCATION:НИК Г3.08
END:VEVENT
BEGIN:VEVENT
UID:ra1h@192.168.245.71:3006
SEQUENCE:0
DTSTAMP:20260424T094328Z
DTSTART:20251023T130000Z
DTEND:20251023T144000Z
SUMMARY:Системный инжиниринг
LOCATION:НИК Г3.08
END:VEVENT
BEGIN:VEVENT
UID:97ca@192.168.245.71:3006
SEQUENCE:0
DTSTAMP:20260424T094328Z
DTSTART:20251023T150000Z
DTEND:20251023T164000Z
SUMMARY:Системный инжиниринг
LOCATION:НИК Г3.08
END:VEVENT
BEGIN:VEVENT
UID:wksd@192.168.245.71:3006
SEQUENCE:0
DTSTAMP:20260424T094328Z
DTSTART:20251024T130000Z
DTEND:20251024T144000Z
SUMMARY:Иностранный язык в профессиональной коммуникации\, Английский
LOCATION:НИК Г3.59
END:VEVENT
END:VCALENDAR