BEGIN:VCALENDAR
VERSION:2.0
PRODID:-//spbstu.ru//ical//RU
NAME:Расписание группы 5342703/50301
X-WR-CALNAME:Расписание группы 5342703/50301
TIMEZONE-ID:Europe/Moscow
X-WR-TIMEZONE:Europe/Moscow
BEGIN:VEVENT
UID:5s2g@192.168.245.71:3006
SEQUENCE:0
DTSTAMP:20260425T004240Z
DTSTART:20251006T130000Z
DTEND:20251006T144000Z
SUMMARY:Современные проблемы теории автоматического управления
LOCATION:3 к. 406
END:VEVENT
BEGIN:VEVENT
UID:r2bq@192.168.245.71:3006
SEQUENCE:0
DTSTAMP:20260425T004240Z
DTSTART:20251006T150000Z
DTEND:20251006T164000Z
SUMMARY:Современные проблемы теории автоматического управления
LOCATION:3 к. 406
END:VEVENT
BEGIN:VEVENT
UID:f0md@192.168.245.71:3006
SEQUENCE:0
DTSTAMP:20260425T004240Z
DTSTART:20251007T130000Z
DTEND:20251007T144000Z
SUMMARY:Математические модели технических объектов управления
LOCATION:НИК В2.21 (1)
END:VEVENT
BEGIN:VEVENT
UID:p24x@192.168.245.71:3006
SEQUENCE:0
DTSTAMP:20260425T004240Z
DTSTART:20251007T150000Z
DTEND:20251007T164000Z
SUMMARY:Математические модели технических объектов управления
LOCATION:НИК В2.21 (1)
END:VEVENT
BEGIN:VEVENT
UID:s50h@192.168.245.71:3006
SEQUENCE:0
DTSTAMP:20260425T004240Z
DTSTART:20251007T170000Z
DTEND:20251007T184000Z
SUMMARY:Математические модели технических объектов управления
LOCATION:НИК В2.21 (1)
END:VEVENT
BEGIN:VEVENT
UID:y1x0@192.168.245.71:3006
SEQUENCE:0
DTSTAMP:20260425T004240Z
DTSTART:20251008T130000Z
DTEND:20251008T144000Z
SUMMARY:Управление инновационным проектом
LOCATION:3 к. 406
END:VEVENT
BEGIN:VEVENT
UID:2dsb@192.168.245.71:3006
SEQUENCE:0
DTSTAMP:20260425T004240Z
DTSTART:20251008T150000Z
DTEND:20251008T164000Z
SUMMARY:Цифровые ресурсы в научном исследовании
LOCATION:НИК Г3.08
END:VEVENT
BEGIN:VEVENT
UID:suwm@192.168.245.71:3006
SEQUENCE:0
DTSTAMP:20260425T004240Z
DTSTART:20251009T130000Z
DTEND:20251009T144000Z
SUMMARY:Системный инжиниринг
LOCATION:НИК Г3.08
END:VEVENT
BEGIN:VEVENT
UID:12ag@192.168.245.71:3006
SEQUENCE:0
DTSTAMP:20260425T004240Z
DTSTART:20251009T150000Z
DTEND:20251009T164000Z
SUMMARY:Системный инжиниринг
LOCATION:НИК Г3.08
END:VEVENT
BEGIN:VEVENT
UID:0yc0@192.168.245.71:3006
SEQUENCE:0
DTSTAMP:20260425T004240Z
DTSTART:20251010T130000Z
DTEND:20251010T144000Z
SUMMARY:Иностранный язык в профессиональной коммуникации\, Английский
LOCATION:НИК Г3.59
END:VEVENT
END:VCALENDAR