BEGIN:VCALENDAR
VERSION:2.0
PRODID:-//spbstu.ru//ical//RU
NAME:Расписание группы 5342703/50301
X-WR-CALNAME:Расписание группы 5342703/50301
TIMEZONE-ID:Europe/Moscow
X-WR-TIMEZONE:Europe/Moscow
BEGIN:VEVENT
UID:3px7@192.168.245.71:3006
SEQUENCE:0
DTSTAMP:20260424T023020Z
DTSTART:20251110T130000Z
DTEND:20251110T144000Z
SUMMARY:Современные проблемы теории автоматического управления
LOCATION:3 к. 406
END:VEVENT
BEGIN:VEVENT
UID:dvku@192.168.245.71:3006
SEQUENCE:0
DTSTAMP:20260424T023020Z
DTSTART:20251110T150000Z
DTEND:20251110T164000Z
SUMMARY:Современные проблемы теории автоматического управления
LOCATION:3 к. 406
END:VEVENT
BEGIN:VEVENT
UID:odcz@192.168.245.71:3006
SEQUENCE:0
DTSTAMP:20260424T023020Z
DTSTART:20251113T130000Z
DTEND:20251113T144000Z
SUMMARY:Системный инжиниринг
LOCATION:НИК Г3.08
END:VEVENT
BEGIN:VEVENT
UID:emuc@192.168.245.71:3006
SEQUENCE:0
DTSTAMP:20260424T023020Z
DTSTART:20251113T150000Z
DTEND:20251113T164000Z
SUMMARY:Системный инжиниринг
LOCATION:НИК Г3.08
END:VEVENT
BEGIN:VEVENT
UID:c263@192.168.245.71:3006
SEQUENCE:0
DTSTAMP:20260424T023020Z
DTSTART:20251114T130000Z
DTEND:20251114T144000Z
SUMMARY:Иностранный язык в профессиональной коммуникации\, Английский
LOCATION:НИК Г3.59
END:VEVENT
END:VCALENDAR