BEGIN:VCALENDAR
VERSION:2.0
PRODID:-//spbstu.ru//ical//RU
NAME:Расписание группы 5342703/50301
X-WR-CALNAME:Расписание группы 5342703/50301
TIMEZONE-ID:Europe/Moscow
X-WR-TIMEZONE:Europe/Moscow
BEGIN:VEVENT
UID:9bzc@192.168.245.71:3006
SEQUENCE:0
DTSTAMP:20260423T205800Z
DTSTART:20251127T130000Z
DTEND:20251127T144000Z
SUMMARY:Системный инжиниринг
LOCATION:НИК Г3.08
END:VEVENT
BEGIN:VEVENT
UID:6kwi@192.168.245.71:3006
SEQUENCE:0
DTSTAMP:20260423T205800Z
DTSTART:20251127T150000Z
DTEND:20251127T164000Z
SUMMARY:Системный инжиниринг
LOCATION:НИК Г3.08
END:VEVENT
BEGIN:VEVENT
UID:3prp@192.168.245.71:3006
SEQUENCE:0
DTSTAMP:20260423T205800Z
DTSTART:20251128T130000Z
DTEND:20251128T144000Z
SUMMARY:Иностранный язык в профессиональной коммуникации\, Английский
LOCATION:НИК Г3.59
END:VEVENT
END:VCALENDAR