BEGIN:VCALENDAR
VERSION:2.0
PRODID:-//spbstu.ru//ical//RU
NAME:Расписание группы 5342703/50301
X-WR-CALNAME:Расписание группы 5342703/50301
TIMEZONE-ID:Europe/Moscow
X-WR-TIMEZONE:Europe/Moscow
BEGIN:VEVENT
UID:khsf@192.168.245.71:3006
SEQUENCE:0
DTSTAMP:20260422T094546Z
DTSTART:20260302T130000Z
DTEND:20260302T144000Z
SUMMARY:Информационная безопасность и защита информации
LOCATION:3 к. 406
END:VEVENT
BEGIN:VEVENT
UID:drbv@192.168.245.71:3006
SEQUENCE:0
DTSTAMP:20260422T094546Z
DTSTART:20260302T150000Z
DTEND:20260302T164000Z
SUMMARY:Модели и методы принятия решений
LOCATION:НИК В2.21 (1)
END:VEVENT
BEGIN:VEVENT
UID:uy98@192.168.245.71:3006
SEQUENCE:0
DTSTAMP:20260422T094546Z
DTSTART:20260302T170000Z
DTEND:20260302T184000Z
SUMMARY:Модели и методы принятия решений
LOCATION:НИК В2.21 (1)
END:VEVENT
BEGIN:VEVENT
UID:fpqp@192.168.245.71:3006
SEQUENCE:0
DTSTAMP:20260422T094546Z
DTSTART:20260303T150000Z
DTEND:20260303T164000Z
SUMMARY:Технологии разработки программно-информационных систем на предприя
 тии
LOCATION:3 к. 406
END:VEVENT
BEGIN:VEVENT
UID:tyx8@192.168.245.71:3006
SEQUENCE:0
DTSTAMP:20260422T094546Z
DTSTART:20260303T170000Z
DTEND:20260303T184000Z
SUMMARY:Технологии разработки программно-информационных систем на предприя
 тии
LOCATION:3 к. 406
END:VEVENT
END:VCALENDAR