BEGIN:VCALENDAR
VERSION:2.0
PRODID:-//spbstu.ru//ical//RU
NAME:Расписание группы 5342703/50301
X-WR-CALNAME:Расписание группы 5342703/50301
TIMEZONE-ID:Europe/Moscow
X-WR-TIMEZONE:Europe/Moscow
BEGIN:VEVENT
UID:7qkg@192.168.245.71:3006
SEQUENCE:0
DTSTAMP:20260421T185737Z
DTSTART:20260330T130000Z
DTEND:20260330T144000Z
SUMMARY:Информационная безопасность и защита информации
LOCATION:3 к. 406
END:VEVENT
BEGIN:VEVENT
UID:oora@192.168.245.71:3006
SEQUENCE:0
DTSTAMP:20260421T185737Z
DTSTART:20260330T150000Z
DTEND:20260330T164000Z
SUMMARY:Модели и методы принятия решений
LOCATION:НИК В2.21 (1)
END:VEVENT
BEGIN:VEVENT
UID:ym4i@192.168.245.71:3006
SEQUENCE:0
DTSTAMP:20260421T185737Z
DTSTART:20260330T170000Z
DTEND:20260330T184000Z
SUMMARY:Модели и методы принятия решений
LOCATION:НИК В2.21 (1)
END:VEVENT
BEGIN:VEVENT
UID:pvbz@192.168.245.71:3006
SEQUENCE:0
DTSTAMP:20260421T185737Z
DTSTART:20260331T150000Z
DTEND:20260331T164000Z
SUMMARY:Технологии разработки программно-информационных систем на предприя
 тии
LOCATION:3 к. 406
END:VEVENT
BEGIN:VEVENT
UID:h6qh@192.168.245.71:3006
SEQUENCE:0
DTSTAMP:20260421T185737Z
DTSTART:20260331T170000Z
DTEND:20260331T184000Z
SUMMARY:Технологии разработки программно-информационных систем на предприя
 тии
LOCATION:3 к. 406
END:VEVENT
END:VCALENDAR