BEGIN:VCALENDAR
VERSION:2.0
PRODID:-//spbstu.ru//ical//RU
NAME:Расписание группы 5341503/41401
X-WR-CALNAME:Расписание группы 5341503/41401
TIMEZONE-ID:Europe/Moscow
X-WR-TIMEZONE:Europe/Moscow
BEGIN:VEVENT
UID:y5b4@192.168.245.71:3006
SEQUENCE:0
DTSTAMP:20260426T012057Z
DTSTART:20251007T110000Z
DTEND:20251007T124000Z
SUMMARY:Научно-исследовательский семинар
LOCATION:НИК Г3.08
END:VEVENT
BEGIN:VEVENT
UID:q23c@192.168.245.71:3006
SEQUENCE:0
DTSTAMP:20260426T012057Z
DTSTART:20251008T130000Z
DTEND:20251008T144000Z
SUMMARY:Технологическое проектирование химико-технологических объектов
LOCATION:НИК Г3.41
END:VEVENT
BEGIN:VEVENT
UID:txpj@192.168.245.71:3006
SEQUENCE:0
DTSTAMP:20260426T012057Z
DTSTART:20251009T090000Z
DTEND:20251009T104000Z
SUMMARY:Основы предпринимательства
LOCATION:НИК Г3.14
END:VEVENT
BEGIN:VEVENT
UID:9juo@192.168.245.71:3006
SEQUENCE:0
DTSTAMP:20260426T012057Z
DTSTART:20251009T110000Z
DTEND:20251009T124000Z
SUMMARY:Проект по компьютерному инжинирингу
LOCATION:НИК В2.21 (1)
END:VEVENT
END:VCALENDAR