BEGIN:VCALENDAR
VERSION:2.0
PRODID:-//spbstu.ru//ical//RU
NAME:Расписание группы 5240301/50601
X-WR-CALNAME:Расписание группы 5240301/50601
TIMEZONE-ID:Europe/Moscow
X-WR-TIMEZONE:Europe/Moscow
BEGIN:VEVENT
UID:h9vq@192.168.245.71:3006
SEQUENCE:0
DTSTAMP:20260425T144232Z
DTSTART:20250915T130000Z
DTEND:20250915T144000Z
SUMMARY:Основы математического моделирования физико-механических процессов
LOCATION:ГЗ 229
END:VEVENT
BEGIN:VEVENT
UID:76j2@192.168.245.71:3006
SEQUENCE:0
DTSTAMP:20260425T144232Z
DTSTART:20250915T150000Z
DTEND:20250915T164000Z
SUMMARY:Основы математического моделирования физико-механических процессов
LOCATION:ГЗ 184
END:VEVENT
BEGIN:VEVENT
UID:74ml@192.168.245.71:3006
SEQUENCE:0
DTSTAMP:20260425T144232Z
DTSTART:20250916T110000Z
DTEND:20250916T124000Z
SUMMARY:Иностранный язык в профессиональной коммуникации\, Английский
LOCATION:ГЗ 184
END:VEVENT
BEGIN:VEVENT
UID:cp6e@192.168.245.71:3006
SEQUENCE:0
DTSTAMP:20260425T144232Z
DTSTART:20250916T130000Z
DTEND:20250916T144000Z
SUMMARY:Специальные главы высшей математики
LOCATION:ГЗ 229
END:VEVENT
BEGIN:VEVENT
UID:wkxl@192.168.245.71:3006
SEQUENCE:0
DTSTAMP:20260425T144232Z
DTSTART:20250916T150000Z
DTEND:20250916T164000Z
SUMMARY:Специальные главы высшей математики
LOCATION:ГЗ 229
END:VEVENT
BEGIN:VEVENT
UID:p5i4@192.168.245.71:3006
SEQUENCE:0
DTSTAMP:20260425T144232Z
DTSTART:20250917T110000Z
DTEND:20250917T124000Z
SUMMARY:Введение в квантовую механику
LOCATION:ГЗ 184
END:VEVENT
BEGIN:VEVENT
UID:bfrr@192.168.245.71:3006
SEQUENCE:0
DTSTAMP:20260425T144232Z
DTSTART:20250917T130000Z
DTEND:20250917T144000Z
SUMMARY:Теория информации и анализ сигналов
LOCATION:ГЗ 184
END:VEVENT
BEGIN:VEVENT
UID:v554@192.168.245.71:3006
SEQUENCE:0
DTSTAMP:20260425T144232Z
DTSTART:20250918T130000Z
DTEND:20250918T144000Z
SUMMARY:Моделирование наносистем
LOCATION:ГЗ 229
END:VEVENT
BEGIN:VEVENT
UID:g68s@192.168.245.71:3006
SEQUENCE:0
DTSTAMP:20260425T144232Z
DTSTART:20250918T150000Z
DTEND:20250918T164000Z
SUMMARY:Моделирование наносистем
LOCATION:ГЗ 184
END:VEVENT
BEGIN:VEVENT
UID:dfhm@192.168.245.71:3006
SEQUENCE:0
DTSTAMP:20260425T144232Z
DTSTART:20250919T130000Z
DTEND:20250919T144000Z
SUMMARY:Возрастная психология образования
LOCATION:ГЗ 229
END:VEVENT
BEGIN:VEVENT
UID:3866@192.168.245.71:3006
SEQUENCE:0
DTSTAMP:20260425T144232Z
DTSTART:20250919T150000Z
DTEND:20250919T164000Z
SUMMARY:Возрастная психология образования
LOCATION:ГЗ 229
END:VEVENT
END:VCALENDAR