BEGIN:VCALENDAR
VERSION:2.0
PRODID:-//spbstu.ru//ical//RU
NAME:Расписание группы 5240301/50601
X-WR-CALNAME:Расписание группы 5240301/50601
TIMEZONE-ID:Europe/Moscow
X-WR-TIMEZONE:Europe/Moscow
BEGIN:VEVENT
UID:iz0a@192.168.245.71:3006
SEQUENCE:0
DTSTAMP:20260420T192929Z
DTSTART:20260427T110000Z
DTEND:20260427T124000Z
SUMMARY:История и современные аспекты педагогической науки
LOCATION:ГЗ 221
END:VEVENT
BEGIN:VEVENT
UID:7whx@192.168.245.71:3006
SEQUENCE:0
DTSTAMP:20260420T192929Z
DTSTART:20260427T130000Z
DTEND:20260427T144000Z
SUMMARY:Моделирование наносистем
LOCATION:ГЗ 184
END:VEVENT
BEGIN:VEVENT
UID:b1q0@192.168.245.71:3006
SEQUENCE:0
DTSTAMP:20260420T192929Z
DTSTART:20260427T150000Z
DTEND:20260427T164000Z
SUMMARY:Цифровая педагогика
LOCATION:ГЗ 106
END:VEVENT
BEGIN:VEVENT
UID:rlfk@192.168.245.71:3006
SEQUENCE:0
DTSTAMP:20260420T192929Z
DTSTART:20260428T090000Z
DTEND:20260428T104000Z
SUMMARY:Научно-исследовательский семинар
LOCATION:ГЗ 106
END:VEVENT
BEGIN:VEVENT
UID:sv4a@192.168.245.71:3006
SEQUENCE:0
DTSTAMP:20260420T192929Z
DTSTART:20260428T110000Z
DTEND:20260428T124000Z
SUMMARY:Специальные главы высшей математики
LOCATION:ГЗ 226
END:VEVENT
BEGIN:VEVENT
UID:ai9i@192.168.245.71:3006
SEQUENCE:0
DTSTAMP:20260420T192929Z
DTSTART:20260428T130000Z
DTEND:20260428T144000Z
SUMMARY:Специальные главы высшей математики
LOCATION:ГЗ 226
END:VEVENT
BEGIN:VEVENT
UID:kdtc@192.168.245.71:3006
SEQUENCE:0
DTSTAMP:20260420T192929Z
DTSTART:20260428T150000Z
DTEND:20260428T164000Z
SUMMARY:Цифровая педагогика
LOCATION:ГЗ 152
END:VEVENT
END:VCALENDAR