BEGIN:VCALENDAR
VERSION:2.0
PRODID:-//spbstu.ru//ical//RU
NAME:Расписание группы 3150801/20101_2024
X-WR-CALNAME:Расписание группы 3150801/20101_2024
TIMEZONE-ID:Europe/Moscow
X-WR-TIMEZONE:Europe/Moscow
BEGIN:VEVENT
UID:rljg@192.168.245.71:3006
SEQUENCE:0
DTSTAMP:20260426T032615Z
DTSTART:20250915T150000Z
DTEND:20250915T164000Z
SUMMARY:Образовательный форсайт
LOCATION:ГК-2 506
END:VEVENT
BEGIN:VEVENT
UID:g3v3@192.168.245.71:3006
SEQUENCE:0
DTSTAMP:20260426T032615Z
DTSTART:20250916T150000Z
DTEND:20250916T164000Z
SUMMARY:Металлические конструкции
LOCATION:ГК-2 110
END:VEVENT
BEGIN:VEVENT
UID:vx8d@192.168.245.71:3006
SEQUENCE:0
DTSTAMP:20260426T032615Z
DTSTART:20250917T150000Z
DTEND:20250917T164000Z
SUMMARY:Теплогазоснабжение с основами теплотехники
LOCATION:ГК-2 509
END:VEVENT
BEGIN:VEVENT
UID:ozks@192.168.245.71:3006
SEQUENCE:0
DTSTAMP:20260426T032615Z
DTSTART:20250918T150000Z
DTEND:20250918T164000Z
SUMMARY:Теплогазоснабжение с основами теплотехники
LOCATION:ГК-2 509
END:VEVENT
BEGIN:VEVENT
UID:nygo@192.168.245.71:3006
SEQUENCE:0
DTSTAMP:20260426T032615Z
DTSTART:20250919T150000Z
DTEND:20250919T164000Z
SUMMARY:Пожарная безопасность в строительстве
LOCATION:ГК-2 405
END:VEVENT
END:VCALENDAR