BEGIN:VCALENDAR
VERSION:2.0
PRODID:-//spbstu.ru//ical//RU
NAME:Расписание группы 3130801/50001
X-WR-CALNAME:Расписание группы 3130801/50001
TIMEZONE-ID:Europe/Moscow
X-WR-TIMEZONE:Europe/Moscow
BEGIN:VEVENT
UID:yguf@192.168.245.71:3006
SEQUENCE:0
DTSTAMP:20260424T042648Z
DTSTART:20260202T090000Z
DTEND:20260202T104000Z
SUMMARY:Физика
LOCATION:ГК 229
END:VEVENT
BEGIN:VEVENT
UID:c46a@192.168.245.71:3006
SEQUENCE:0
DTSTAMP:20260424T042648Z
DTSTART:20260202T110000Z
DTEND:20260202T124000Z
SUMMARY:Иностранный язык: Базовый курс
LOCATION:ГК 230
END:VEVENT
BEGIN:VEVENT
UID:07l5@192.168.245.71:3006
SEQUENCE:0
DTSTAMP:20260424T042648Z
DTSTART:20260203T090000Z
DTEND:20260203T104000Z
SUMMARY:Информатика
LOCATION:ГК-2 305
END:VEVENT
BEGIN:VEVENT
UID:vsvc@192.168.245.71:3006
SEQUENCE:0
DTSTAMP:20260424T042648Z
DTSTART:20260203T110000Z
DTEND:20260203T124000Z
SUMMARY:Теоретическая механика
LOCATION:ГЗ 215
END:VEVENT
BEGIN:VEVENT
UID:y8eb@192.168.245.71:3006
SEQUENCE:0
DTSTAMP:20260424T042648Z
DTSTART:20260203T130000Z
DTEND:20260203T144000Z
SUMMARY:Теоретическая механика
LOCATION:ГЗ 106
END:VEVENT
BEGIN:VEVENT
UID:9pve@192.168.245.71:3006
SEQUENCE:0
DTSTAMP:20260424T042648Z
DTSTART:20260204T061500Z
DTEND:20260204T084000Z
SUMMARY:Физика
LOCATION:ГЗ 215
END:VEVENT
BEGIN:VEVENT
UID:7swf@192.168.245.71:3006
SEQUENCE:0
DTSTAMP:20260424T042648Z
DTSTART:20260204T090000Z
DTEND:20260204T104000Z
SUMMARY:Информатика
LOCATION:ГК-2 305
END:VEVENT
BEGIN:VEVENT
UID:hm3x@192.168.245.71:3006
SEQUENCE:0
DTSTAMP:20260424T042648Z
DTSTART:20260204T110000Z
DTEND:20260204T124000Z
SUMMARY:Геодезия
LOCATION:ГК 123а
END:VEVENT
BEGIN:VEVENT
UID:jp99@192.168.245.71:3006
SEQUENCE:0
DTSTAMP:20260424T042648Z
DTSTART:20260205T070000Z
DTEND:20260205T084000Z
SUMMARY:Информатика
LOCATION:ГЗ 215
END:VEVENT
BEGIN:VEVENT
UID:5jfy@192.168.245.71:3006
SEQUENCE:0
DTSTAMP:20260424T042648Z
DTSTART:20260205T090000Z
DTEND:20260205T104000Z
SUMMARY:Высшая математика
LOCATION:ГЗ 305
END:VEVENT
BEGIN:VEVENT
UID:3a4x@192.168.245.71:3006
SEQUENCE:0
DTSTAMP:20260424T042648Z
DTSTART:20260205T110000Z
DTEND:20260205T124000Z
SUMMARY:История России
LOCATION:ГК-2 509
END:VEVENT
BEGIN:VEVENT
UID:ghab@192.168.245.71:3006
SEQUENCE:0
DTSTAMP:20260424T042648Z
DTSTART:20260206T070000Z
DTEND:20260206T084000Z
SUMMARY:Инженерная графика
LOCATION:ГЗ 215
END:VEVENT
BEGIN:VEVENT
UID:0pom@192.168.245.71:3006
SEQUENCE:0
DTSTAMP:20260424T042648Z
DTSTART:20260206T090000Z
DTEND:20260206T104000Z
SUMMARY:Высшая математика
LOCATION:ГК-2 309
END:VEVENT
BEGIN:VEVENT
UID:1h5j@192.168.245.71:3006
SEQUENCE:0
DTSTAMP:20260424T042648Z
DTSTART:20260206T110000Z
DTEND:20260206T124000Z
SUMMARY:Инженерная графика
LOCATION:ГК-2 402
END:VEVENT
BEGIN:VEVENT
UID:7dz4@192.168.245.71:3006
SEQUENCE:0
DTSTAMP:20260424T042648Z
DTSTART:20260207T070000Z
DTEND:20260207T084000Z
SUMMARY:Иностранный язык: Русский язык как иностранный
LOCATION:ГЗ 230
END:VEVENT
BEGIN:VEVENT
UID:wvt5@192.168.245.71:3006
SEQUENCE:0
DTSTAMP:20260424T042648Z
DTSTART:20260207T090000Z
DTEND:20260207T104000Z
SUMMARY:Иностранный язык: Русский язык как иностранный
LOCATION:ГЗ 230
END:VEVENT
END:VCALENDAR