BEGIN:VCALENDAR
VERSION:2.0
PRODID:-//spbstu.ru//ical//RU
NAME:Расписание группы 3130801/50001
X-WR-CALNAME:Расписание группы 3130801/50001
TIMEZONE-ID:Europe/Moscow
X-WR-TIMEZONE:Europe/Moscow
BEGIN:VEVENT
UID:8cgz@192.168.245.71:3006
SEQUENCE:0
DTSTAMP:20260423T011536Z
DTSTART:20260427T070000Z
DTEND:20260427T084000Z
SUMMARY:Элективная физическая культура и спорт
LOCATION:СК Секции
END:VEVENT
BEGIN:VEVENT
UID:k5nh@192.168.245.71:3006
SEQUENCE:0
DTSTAMP:20260423T011536Z
DTSTART:20260427T090000Z
DTEND:20260427T104000Z
SUMMARY:Физика
LOCATION:ГК 229
END:VEVENT
BEGIN:VEVENT
UID:86b9@192.168.245.71:3006
SEQUENCE:0
DTSTAMP:20260423T011536Z
DTSTART:20260427T110000Z
DTEND:20260427T124000Z
SUMMARY:Иностранный язык: Базовый курс
LOCATION:ГК 230
END:VEVENT
BEGIN:VEVENT
UID:m21v@192.168.245.71:3006
SEQUENCE:0
DTSTAMP:20260423T011536Z
DTSTART:20260428T090000Z
DTEND:20260428T104000Z
SUMMARY:Информатика
LOCATION:ГК-2 305
END:VEVENT
BEGIN:VEVENT
UID:oe00@192.168.245.71:3006
SEQUENCE:0
DTSTAMP:20260423T011536Z
DTSTART:20260428T110000Z
DTEND:20260428T124000Z
SUMMARY:Теоретическая механика
LOCATION:ГЗ 215
END:VEVENT
BEGIN:VEVENT
UID:e4cg@192.168.245.71:3006
SEQUENCE:0
DTSTAMP:20260423T011536Z
DTSTART:20260428T130000Z
DTEND:20260428T144000Z
SUMMARY:Теоретическая механика
LOCATION:ГЗ 106
END:VEVENT
BEGIN:VEVENT
UID:ctek@192.168.245.71:3006
SEQUENCE:0
DTSTAMP:20260423T011536Z
DTSTART:20260429T061500Z
DTEND:20260429T084000Z
SUMMARY:Физика
LOCATION:ГЗ 215
END:VEVENT
BEGIN:VEVENT
UID:ml85@192.168.245.71:3006
SEQUENCE:0
DTSTAMP:20260423T011536Z
DTSTART:20260429T090000Z
DTEND:20260429T104000Z
SUMMARY:Информатика
LOCATION:ГК-2 305
END:VEVENT
BEGIN:VEVENT
UID:67mg@192.168.245.71:3006
SEQUENCE:0
DTSTAMP:20260423T011536Z
DTSTART:20260429T110000Z
DTEND:20260429T124000Z
SUMMARY:Геодезия
LOCATION:ГК-2 406
END:VEVENT
BEGIN:VEVENT
UID:455i@192.168.245.71:3006
SEQUENCE:0
DTSTAMP:20260423T011536Z
DTSTART:20260430T050000Z
DTEND:20260430T064000Z
SUMMARY:Элективная физическая культура и спорт
LOCATION:СК Секции
END:VEVENT
BEGIN:VEVENT
UID:xr5e@192.168.245.71:3006
SEQUENCE:0
DTSTAMP:20260423T011536Z
DTSTART:20260430T070000Z
DTEND:20260430T084000Z
SUMMARY:Информатика
LOCATION:ГЗ 215
END:VEVENT
BEGIN:VEVENT
UID:x62r@192.168.245.71:3006
SEQUENCE:0
DTSTAMP:20260423T011536Z
DTSTART:20260430T090000Z
DTEND:20260430T104000Z
SUMMARY:Высшая математика
LOCATION:ГЗ 305
END:VEVENT
BEGIN:VEVENT
UID:xa3g@192.168.245.71:3006
SEQUENCE:0
DTSTAMP:20260423T011536Z
DTSTART:20260502T070000Z
DTEND:20260502T084000Z
SUMMARY:Иностранный язык: Русский язык как иностранный
LOCATION:ГЗ 230
END:VEVENT
BEGIN:VEVENT
UID:sss8@192.168.245.71:3006
SEQUENCE:0
DTSTAMP:20260423T011536Z
DTSTART:20260502T090000Z
DTEND:20260502T104000Z
SUMMARY:Иностранный язык: Русский язык как иностранный
LOCATION:ГЗ 230
END:VEVENT
END:VCALENDAR