BEGIN:VCALENDAR
VERSION:2.0
PRODID:-//spbstu.ru//ical//RU
NAME:Расписание группы 3130801/50001
X-WR-CALNAME:Расписание группы 3130801/50001
TIMEZONE-ID:Europe/Moscow
X-WR-TIMEZONE:Europe/Moscow
BEGIN:VEVENT
UID:r5za@192.168.245.71:3006
SEQUENCE:0
DTSTAMP:20260423T011455Z
DTSTART:20260406T070000Z
DTEND:20260406T084000Z
SUMMARY:Элективная физическая культура и спорт
LOCATION:СК Секции
END:VEVENT
BEGIN:VEVENT
UID:z3oe@192.168.245.71:3006
SEQUENCE:0
DTSTAMP:20260423T011455Z
DTSTART:20260406T090000Z
DTEND:20260406T104000Z
SUMMARY:Физика
LOCATION:ГК 229
END:VEVENT
BEGIN:VEVENT
UID:c03b@192.168.245.71:3006
SEQUENCE:0
DTSTAMP:20260423T011455Z
DTSTART:20260406T110000Z
DTEND:20260406T124000Z
SUMMARY:Иностранный язык: Базовый курс
LOCATION:ГК 230
END:VEVENT
BEGIN:VEVENT
UID:albi@192.168.245.71:3006
SEQUENCE:0
DTSTAMP:20260423T011455Z
DTSTART:20260407T090000Z
DTEND:20260407T104000Z
SUMMARY:Экономическая культура
LOCATION:ГК-2 509
END:VEVENT
BEGIN:VEVENT
UID:dhbu@192.168.245.71:3006
SEQUENCE:0
DTSTAMP:20260423T011455Z
DTSTART:20260407T110000Z
DTEND:20260407T124000Z
SUMMARY:Теоретическая механика
LOCATION:ГЗ 215
END:VEVENT
BEGIN:VEVENT
UID:z680@192.168.245.71:3006
SEQUENCE:0
DTSTAMP:20260423T011455Z
DTSTART:20260407T130000Z
DTEND:20260407T144000Z
SUMMARY:Теоретическая механика
LOCATION:ГЗ 106
END:VEVENT
BEGIN:VEVENT
UID:71m5@192.168.245.71:3006
SEQUENCE:0
DTSTAMP:20260423T011455Z
DTSTART:20260408T061500Z
DTEND:20260408T084000Z
SUMMARY:Физика
LOCATION:ГЗ 215
END:VEVENT
BEGIN:VEVENT
UID:wqqb@192.168.245.71:3006
SEQUENCE:0
DTSTAMP:20260423T011455Z
DTSTART:20260408T090000Z
DTEND:20260408T104000Z
SUMMARY:Информатика
LOCATION:ГК-2 305
END:VEVENT
BEGIN:VEVENT
UID:clyx@192.168.245.71:3006
SEQUENCE:0
DTSTAMP:20260423T011455Z
DTSTART:20260408T110000Z
DTEND:20260408T124000Z
SUMMARY:Геодезия
LOCATION:СПГК 112
END:VEVENT
BEGIN:VEVENT
UID:xme7@192.168.245.71:3006
SEQUENCE:0
DTSTAMP:20260423T011455Z
DTSTART:20260409T050000Z
DTEND:20260409T064000Z
SUMMARY:Элективная физическая культура и спорт
LOCATION:СК Секции
END:VEVENT
BEGIN:VEVENT
UID:2hoq@192.168.245.71:3006
SEQUENCE:0
DTSTAMP:20260423T011455Z
DTSTART:20260409T070000Z
DTEND:20260409T084000Z
SUMMARY:Информатика
LOCATION:ГЗ 215
END:VEVENT
BEGIN:VEVENT
UID:q5n8@192.168.245.71:3006
SEQUENCE:0
DTSTAMP:20260423T011455Z
DTSTART:20260409T090000Z
DTEND:20260409T104000Z
SUMMARY:Высшая математика
LOCATION:ГЗ 305
END:VEVENT
BEGIN:VEVENT
UID:rvz8@192.168.245.71:3006
SEQUENCE:0
DTSTAMP:20260423T011455Z
DTSTART:20260409T110000Z
DTEND:20260409T124000Z
SUMMARY:История России
LOCATION:ГК-2 509
END:VEVENT
BEGIN:VEVENT
UID:t6qa@192.168.245.71:3006
SEQUENCE:0
DTSTAMP:20260423T011455Z
DTSTART:20260410T070000Z
DTEND:20260410T084000Z
SUMMARY:История России
LOCATION:ГЗ 329
END:VEVENT
BEGIN:VEVENT
UID:yp0m@192.168.245.71:3006
SEQUENCE:0
DTSTAMP:20260423T011455Z
DTSTART:20260410T090000Z
DTEND:20260410T104000Z
SUMMARY:Высшая математика
LOCATION:ГК-2 309
END:VEVENT
BEGIN:VEVENT
UID:qns3@192.168.245.71:3006
SEQUENCE:0
DTSTAMP:20260423T011455Z
DTSTART:20260410T110000Z
DTEND:20260410T124000Z
SUMMARY:Инженерная графика
LOCATION:ГК-2 402
END:VEVENT
BEGIN:VEVENT
UID:pef9@192.168.245.71:3006
SEQUENCE:0
DTSTAMP:20260423T011455Z
DTSTART:20260410T130000Z
DTEND:20260410T144000Z
SUMMARY:Физика
LOCATION:ГЗ 155
END:VEVENT
BEGIN:VEVENT
UID:0rs8@192.168.245.71:3006
SEQUENCE:0
DTSTAMP:20260423T011455Z
DTSTART:20260410T130000Z
DTEND:20260410T144000Z
SUMMARY:Физика
LOCATION:ГЗ 155
END:VEVENT
BEGIN:VEVENT
UID:nyea@192.168.245.71:3006
SEQUENCE:0
DTSTAMP:20260423T011455Z
DTSTART:20260411T070000Z
DTEND:20260411T084000Z
SUMMARY:Иностранный язык: Русский язык как иностранный
LOCATION:ГЗ 230
END:VEVENT
BEGIN:VEVENT
UID:8h0p@192.168.245.71:3006
SEQUENCE:0
DTSTAMP:20260423T011455Z
DTSTART:20260411T090000Z
DTEND:20260411T104000Z
SUMMARY:Иностранный язык: Русский язык как иностранный
LOCATION:ГЗ 230
END:VEVENT
END:VCALENDAR