BEGIN:VCALENDAR
VERSION:2.0
PRODID:-//spbstu.ru//ical//RU
NAME:Расписание группы 3130801/50001
X-WR-CALNAME:Расписание группы 3130801/50001
TIMEZONE-ID:Europe/Moscow
X-WR-TIMEZONE:Europe/Moscow
BEGIN:VEVENT
UID:hrrr@192.168.245.71:3006
SEQUENCE:0
DTSTAMP:20260423T011404Z
DTSTART:20260504T070000Z
DTEND:20260504T084000Z
SUMMARY:Элективная физическая культура и спорт
LOCATION:СК Секции
END:VEVENT
BEGIN:VEVENT
UID:ek6t@192.168.245.71:3006
SEQUENCE:0
DTSTAMP:20260423T011404Z
DTSTART:20260504T090000Z
DTEND:20260504T104000Z
SUMMARY:Физика
LOCATION:ГК 229
END:VEVENT
BEGIN:VEVENT
UID:x69m@192.168.245.71:3006
SEQUENCE:0
DTSTAMP:20260423T011404Z
DTSTART:20260504T110000Z
DTEND:20260504T124000Z
SUMMARY:Иностранный язык: Базовый курс
LOCATION:ГК 230
END:VEVENT
BEGIN:VEVENT
UID:kb0a@192.168.245.71:3006
SEQUENCE:0
DTSTAMP:20260423T011404Z
DTSTART:20260505T090000Z
DTEND:20260505T104000Z
SUMMARY:Экономическая культура
LOCATION:ГК-2 509
END:VEVENT
BEGIN:VEVENT
UID:zax4@192.168.245.71:3006
SEQUENCE:0
DTSTAMP:20260423T011404Z
DTSTART:20260505T110000Z
DTEND:20260505T124000Z
SUMMARY:Теоретическая механика
LOCATION:ГЗ 215
END:VEVENT
BEGIN:VEVENT
UID:bver@192.168.245.71:3006
SEQUENCE:0
DTSTAMP:20260423T011404Z
DTSTART:20260505T130000Z
DTEND:20260505T144000Z
SUMMARY:Теоретическая механика
LOCATION:ГЗ 106
END:VEVENT
BEGIN:VEVENT
UID:hre1@192.168.245.71:3006
SEQUENCE:0
DTSTAMP:20260423T011404Z
DTSTART:20260506T061500Z
DTEND:20260506T084000Z
SUMMARY:Физика
LOCATION:ГЗ 215
END:VEVENT
BEGIN:VEVENT
UID:0w32@192.168.245.71:3006
SEQUENCE:0
DTSTAMP:20260423T011404Z
DTSTART:20260506T090000Z
DTEND:20260506T104000Z
SUMMARY:Информатика
LOCATION:ГК-2 305
END:VEVENT
BEGIN:VEVENT
UID:e18y@192.168.245.71:3006
SEQUENCE:0
DTSTAMP:20260423T011404Z
DTSTART:20260506T110000Z
DTEND:20260506T124000Z
SUMMARY:Геодезия
LOCATION:СПГК 112
END:VEVENT
BEGIN:VEVENT
UID:oe29@192.168.245.71:3006
SEQUENCE:0
DTSTAMP:20260423T011404Z
DTSTART:20260507T050000Z
DTEND:20260507T064000Z
SUMMARY:Элективная физическая культура и спорт
LOCATION:СК Секции
END:VEVENT
BEGIN:VEVENT
UID:5zvi@192.168.245.71:3006
SEQUENCE:0
DTSTAMP:20260423T011404Z
DTSTART:20260507T070000Z
DTEND:20260507T084000Z
SUMMARY:Информатика
LOCATION:ГЗ 215
END:VEVENT
BEGIN:VEVENT
UID:tvsh@192.168.245.71:3006
SEQUENCE:0
DTSTAMP:20260423T011404Z
DTSTART:20260507T090000Z
DTEND:20260507T104000Z
SUMMARY:Высшая математика
LOCATION:ГЗ 305
END:VEVENT
BEGIN:VEVENT
UID:2aym@192.168.245.71:3006
SEQUENCE:0
DTSTAMP:20260423T011404Z
DTSTART:20260508T070000Z
DTEND:20260508T084000Z
SUMMARY:История России
LOCATION:ГЗ 329
END:VEVENT
BEGIN:VEVENT
UID:wb6c@192.168.245.71:3006
SEQUENCE:0
DTSTAMP:20260423T011404Z
DTSTART:20260508T090000Z
DTEND:20260508T104000Z
SUMMARY:Высшая математика
LOCATION:ГК-2 309
END:VEVENT
BEGIN:VEVENT
UID:5osw@192.168.245.71:3006
SEQUENCE:0
DTSTAMP:20260423T011404Z
DTSTART:20260508T110000Z
DTEND:20260508T124000Z
SUMMARY:Инженерная графика
LOCATION:ГК-2 402
END:VEVENT
BEGIN:VEVENT
UID:r033@192.168.245.71:3006
SEQUENCE:0
DTSTAMP:20260423T011404Z
DTSTART:20260508T130000Z
DTEND:20260508T144000Z
SUMMARY:Физика
LOCATION:ГЗ 155
END:VEVENT
BEGIN:VEVENT
UID:wqiy@192.168.245.71:3006
SEQUENCE:0
DTSTAMP:20260423T011404Z
DTSTART:20260508T130000Z
DTEND:20260508T144000Z
SUMMARY:Физика
LOCATION:ГЗ 155
END:VEVENT
END:VCALENDAR