BEGIN:VCALENDAR
VERSION:2.0
PRODID:-//spbstu.ru//ical//RU
NAME:Расписание группы 3130801/50004
X-WR-CALNAME:Расписание группы 3130801/50004
TIMEZONE-ID:Europe/Moscow
X-WR-TIMEZONE:Europe/Moscow
BEGIN:VEVENT
UID:xpij@192.168.245.71:3006
SEQUENCE:0
DTSTAMP:20260422T191337Z
DTSTART:20260323T070000Z
DTEND:20260323T084000Z
SUMMARY:Элективная физическая культура и спорт
LOCATION:СК Секции
END:VEVENT
BEGIN:VEVENT
UID:wdrb@192.168.245.71:3006
SEQUENCE:0
DTSTAMP:20260422T191337Z
DTSTART:20260323T090000Z
DTEND:20260323T104000Z
SUMMARY:Иностранный язык: Базовый курс
LOCATION:ГК-2 503
END:VEVENT
BEGIN:VEVENT
UID:nc9b@192.168.245.71:3006
SEQUENCE:0
DTSTAMP:20260422T191337Z
DTSTART:20260323T110000Z
DTEND:20260323T124000Z
SUMMARY:Физика
LOCATION:ГЗ 155
END:VEVENT
BEGIN:VEVENT
UID:h5a7@192.168.245.71:3006
SEQUENCE:0
DTSTAMP:20260422T191337Z
DTSTART:20260323T110000Z
DTEND:20260323T124000Z
SUMMARY:Физика
LOCATION:ГЗ 155
END:VEVENT
BEGIN:VEVENT
UID:dzi6@192.168.245.71:3006
SEQUENCE:0
DTSTAMP:20260422T191337Z
DTSTART:20260323T150000Z
DTEND:20260323T164000Z
SUMMARY:Геодезия
LOCATION:ГК 108
END:VEVENT
BEGIN:VEVENT
UID:9lx0@192.168.245.71:3006
SEQUENCE:0
DTSTAMP:20260422T191337Z
DTSTART:20260324T090000Z
DTEND:20260324T104000Z
SUMMARY:Геодезия
LOCATION:ГК 108
END:VEVENT
BEGIN:VEVENT
UID:amj1@192.168.245.71:3006
SEQUENCE:0
DTSTAMP:20260422T191337Z
DTSTART:20260324T110000Z
DTEND:20260324T124000Z
SUMMARY:Теоретическая механика
LOCATION:ГЗ 215
END:VEVENT
BEGIN:VEVENT
UID:d40i@192.168.245.71:3006
SEQUENCE:0
DTSTAMP:20260422T191337Z
DTSTART:20260324T130000Z
DTEND:20260324T144000Z
SUMMARY:История России
LOCATION:ГК-2 509
END:VEVENT
BEGIN:VEVENT
UID:1st1@192.168.245.71:3006
SEQUENCE:0
DTSTAMP:20260422T191337Z
DTSTART:20260324T150000Z
DTEND:20260324T164000Z
SUMMARY:Иностранный язык: Базовый курс
LOCATION:ГК-2 405
END:VEVENT
BEGIN:VEVENT
UID:t2aa@192.168.245.71:3006
SEQUENCE:0
DTSTAMP:20260422T191337Z
DTSTART:20260325T061500Z
DTEND:20260325T084000Z
SUMMARY:Физика
LOCATION:ГЗ 215
END:VEVENT
BEGIN:VEVENT
UID:0y47@192.168.245.71:3006
SEQUENCE:0
DTSTAMP:20260422T191337Z
DTSTART:20260325T090000Z
DTEND:20260325T104000Z
SUMMARY:Инженерная графика
LOCATION:ГК-2 402
END:VEVENT
BEGIN:VEVENT
UID:72by@192.168.245.71:3006
SEQUENCE:0
DTSTAMP:20260422T191337Z
DTSTART:20260325T110000Z
DTEND:20260325T124000Z
SUMMARY:Информатика
LOCATION:ГК-2 203а
END:VEVENT
BEGIN:VEVENT
UID:ylcd@192.168.245.71:3006
SEQUENCE:0
DTSTAMP:20260422T191337Z
DTSTART:20260325T130000Z
DTEND:20260325T144000Z
SUMMARY:Теоретическая механика
LOCATION:ГК-2 301а
END:VEVENT
BEGIN:VEVENT
UID:phkb@192.168.245.71:3006
SEQUENCE:0
DTSTAMP:20260422T191337Z
DTSTART:20260326T050000Z
DTEND:20260326T064000Z
SUMMARY:Элективная физическая культура и спорт
LOCATION:СК Секции
END:VEVENT
BEGIN:VEVENT
UID:eyy1@192.168.245.71:3006
SEQUENCE:0
DTSTAMP:20260422T191337Z
DTSTART:20260326T070000Z
DTEND:20260326T084000Z
SUMMARY:Информатика
LOCATION:ГЗ 215
END:VEVENT
BEGIN:VEVENT
UID:zf38@192.168.245.71:3006
SEQUENCE:0
DTSTAMP:20260422T191337Z
DTSTART:20260326T090000Z
DTEND:20260326T104000Z
SUMMARY:Высшая математика
LOCATION:ГЗ 305
END:VEVENT
BEGIN:VEVENT
UID:4bx1@192.168.245.71:3006
SEQUENCE:0
DTSTAMP:20260422T191337Z
DTSTART:20260326T130000Z
DTEND:20260326T144000Z
SUMMARY:Химия
LOCATION:Хим. к. 10
END:VEVENT
BEGIN:VEVENT
UID:irz6@192.168.245.71:3006
SEQUENCE:0
DTSTAMP:20260422T191337Z
DTSTART:20260327T050000Z
DTEND:20260327T064000Z
SUMMARY:Экономическая культура
LOCATION:ГК-2 509
END:VEVENT
BEGIN:VEVENT
UID:sgg0@192.168.245.71:3006
SEQUENCE:0
DTSTAMP:20260422T191337Z
DTSTART:20260327T070000Z
DTEND:20260327T084000Z
SUMMARY:История России
LOCATION:ГЗ 329
END:VEVENT
BEGIN:VEVENT
UID:c3tt@192.168.245.71:3006
SEQUENCE:0
DTSTAMP:20260422T191337Z
DTSTART:20260327T090000Z
DTEND:20260327T104000Z
SUMMARY:Высшая математика
LOCATION:ГЗ 138
END:VEVENT
BEGIN:VEVENT
UID:xuut@192.168.245.71:3006
SEQUENCE:0
DTSTAMP:20260422T191337Z
DTSTART:20260327T110000Z
DTEND:20260327T124000Z
SUMMARY:Физика
LOCATION:ГК-2 312
END:VEVENT
BEGIN:VEVENT
UID:4fiu@192.168.245.71:3006
SEQUENCE:0
DTSTAMP:20260422T191337Z
DTSTART:20260328T070000Z
DTEND:20260328T084000Z
SUMMARY:Иностранный язык: Русский язык как иностранный
LOCATION:ГЗ 230
END:VEVENT
BEGIN:VEVENT
UID:970z@192.168.245.71:3006
SEQUENCE:0
DTSTAMP:20260422T191337Z
DTSTART:20260328T090000Z
DTEND:20260328T104000Z
SUMMARY:Иностранный язык: Русский язык как иностранный
LOCATION:ГЗ 230
END:VEVENT
END:VCALENDAR