BEGIN:VCALENDAR
VERSION:2.0
PRODID:-//spbstu.ru//ical//RU
NAME:Расписание группы 3130801/50005
X-WR-CALNAME:Расписание группы 3130801/50005
TIMEZONE-ID:Europe/Moscow
X-WR-TIMEZONE:Europe/Moscow
BEGIN:VEVENT
UID:fest@192.168.245.71:3006
SEQUENCE:0
DTSTAMP:20260425T180544Z
DTSTART:20251110T070000Z
DTEND:20251110T084000Z
SUMMARY:Элективная физическая культура и спорт
LOCATION:СК Секции
END:VEVENT
BEGIN:VEVENT
UID:oeuo@192.168.245.71:3006
SEQUENCE:0
DTSTAMP:20260425T180544Z
DTSTART:20251110T090000Z
DTEND:20251110T104000Z
SUMMARY:История России
LOCATION:ГЗ 215
END:VEVENT
BEGIN:VEVENT
UID:bvxs@192.168.245.71:3006
SEQUENCE:0
DTSTAMP:20260425T180544Z
DTSTART:20251110T110000Z
DTEND:20251110T124000Z
SUMMARY:Химия
LOCATION:ЛабК 44
END:VEVENT
BEGIN:VEVENT
UID:npbn@192.168.245.71:3006
SEQUENCE:0
DTSTAMP:20260425T180544Z
DTSTART:20251110T130000Z
DTEND:20251110T134000Z
SUMMARY:Химия
LOCATION:ЛабК 44
END:VEVENT
BEGIN:VEVENT
UID:cac2@192.168.245.71:3006
SEQUENCE:0
DTSTAMP:20260425T180544Z
DTSTART:20251110T130000Z
DTEND:20251110T134000Z
SUMMARY:Химия
LOCATION:ЛабК 44
END:VEVENT
BEGIN:VEVENT
UID:mx5e@192.168.245.71:3006
SEQUENCE:0
DTSTAMP:20260425T180544Z
DTSTART:20251111T050000Z
DTEND:20251111T064000Z
SUMMARY:Русский язык как иностранный
LOCATION:15 к. 305
END:VEVENT
BEGIN:VEVENT
UID:arsy@192.168.245.71:3006
SEQUENCE:0
DTSTAMP:20260425T180544Z
DTSTART:20251111T110000Z
DTEND:20251111T124000Z
SUMMARY:Основы российской государственности
LOCATION:ГК-2 405
END:VEVENT
BEGIN:VEVENT
UID:wvlt@192.168.245.71:3006
SEQUENCE:0
DTSTAMP:20260425T180544Z
DTSTART:20251111T130000Z
DTEND:20251111T144000Z
SUMMARY:Геодезия
LOCATION:ГЗ 215
END:VEVENT
BEGIN:VEVENT
UID:8y90@192.168.245.71:3006
SEQUENCE:0
DTSTAMP:20260425T180544Z
DTSTART:20251112T090000Z
DTEND:20251112T104000Z
SUMMARY:Инженерная графика
LOCATION:ГК-2 402
END:VEVENT
BEGIN:VEVENT
UID:otdc@192.168.245.71:3006
SEQUENCE:0
DTSTAMP:20260425T180544Z
DTSTART:20251112T110000Z
DTEND:20251112T124000Z
SUMMARY:История России
LOCATION:ГК-2 405
END:VEVENT
BEGIN:VEVENT
UID:xq64@192.168.245.71:3006
SEQUENCE:0
DTSTAMP:20260425T180544Z
DTSTART:20251113T050000Z
DTEND:20251113T064000Z
SUMMARY:Элективная физическая культура и спорт
LOCATION:СК Секции
END:VEVENT
BEGIN:VEVENT
UID:f34q@192.168.245.71:3006
SEQUENCE:0
DTSTAMP:20260425T180544Z
DTSTART:20251113T070000Z
DTEND:20251113T084000Z
SUMMARY:Иностранный язык: Базовый курс
LOCATION:ГК-2 507
END:VEVENT
BEGIN:VEVENT
UID:5p73@192.168.245.71:3006
SEQUENCE:0
DTSTAMP:20260425T180544Z
DTSTART:20251113T090000Z
DTEND:20251113T104000Z
SUMMARY:Высшая математика
LOCATION:ГЗ 329
END:VEVENT
BEGIN:VEVENT
UID:6ybi@192.168.245.71:3006
SEQUENCE:0
DTSTAMP:20260425T180544Z
DTSTART:20251114T050000Z
DTEND:20251114T064000Z
SUMMARY:Русский язык как иностранный
LOCATION:15 к. 305
END:VEVENT
BEGIN:VEVENT
UID:e9tq@192.168.245.71:3006
SEQUENCE:0
DTSTAMP:20260425T180544Z
DTSTART:20251114T070000Z
DTEND:20251114T084000Z
SUMMARY:Высшая математика
LOCATION:ГК-2 401
END:VEVENT
BEGIN:VEVENT
UID:qfac@192.168.245.71:3006
SEQUENCE:0
DTSTAMP:20260425T180544Z
DTSTART:20251114T090000Z
DTEND:20251114T104000Z
SUMMARY:Основы цифровых технологий
LOCATION:ГК-2 210
END:VEVENT
BEGIN:VEVENT
UID:nigu@192.168.245.71:3006
SEQUENCE:0
DTSTAMP:20260425T180544Z
DTSTART:20251114T110000Z
DTEND:20251114T124000Z
SUMMARY:Химия
LOCATION:Хим. к. 52
END:VEVENT
BEGIN:VEVENT
UID:zb5z@192.168.245.71:3006
SEQUENCE:0
DTSTAMP:20260425T180544Z
DTSTART:20251114T130000Z
DTEND:20251114T144000Z
SUMMARY:Введение в профессиональную деятельность
LOCATION:ГЗ 215
END:VEVENT
BEGIN:VEVENT
UID:z98q@192.168.245.71:3006
SEQUENCE:0
DTSTAMP:20260425T180544Z
DTSTART:20251115T070000Z
DTEND:20251115T084000Z
SUMMARY:Иностранный язык: Русский язык как иностранный
LOCATION:ГЗ 284
END:VEVENT
BEGIN:VEVENT
UID:quso@192.168.245.71:3006
SEQUENCE:0
DTSTAMP:20260425T180544Z
DTSTART:20251115T090000Z
DTEND:20251115T104000Z
SUMMARY:Иностранный язык: Русский язык как иностранный
LOCATION:ГЗ 284
END:VEVENT
END:VCALENDAR