BEGIN:VCALENDAR
VERSION:2.0
PRODID:-//spbstu.ru//ical//RU
NAME:Расписание группы 3130801/50005
X-WR-CALNAME:Расписание группы 3130801/50005
TIMEZONE-ID:Europe/Moscow
X-WR-TIMEZONE:Europe/Moscow
BEGIN:VEVENT
UID:xufk@192.168.245.71:3006
SEQUENCE:0
DTSTAMP:20260424T175419Z
DTSTART:20251201T070000Z
DTEND:20251201T084000Z
SUMMARY:Элективная физическая культура и спорт
LOCATION:СК Секции
END:VEVENT
BEGIN:VEVENT
UID:cmvc@192.168.245.71:3006
SEQUENCE:0
DTSTAMP:20260424T175419Z
DTSTART:20251201T090000Z
DTEND:20251201T104000Z
SUMMARY:Основы российской государственности
LOCATION:ГЗ 215
END:VEVENT
BEGIN:VEVENT
UID:hmh6@192.168.245.71:3006
SEQUENCE:0
DTSTAMP:20260424T175419Z
DTSTART:20251201T110000Z
DTEND:20251201T124000Z
SUMMARY:Химия
LOCATION:ЛабК 44
END:VEVENT
BEGIN:VEVENT
UID:vrit@192.168.245.71:3006
SEQUENCE:0
DTSTAMP:20260424T175419Z
DTSTART:20251201T110000Z
DTEND:20251201T124000Z
SUMMARY:Химия
LOCATION:ЛабК 44
END:VEVENT
BEGIN:VEVENT
UID:4izx@192.168.245.71:3006
SEQUENCE:0
DTSTAMP:20260424T175419Z
DTSTART:20251201T130000Z
DTEND:20251201T134000Z
SUMMARY:Химия
LOCATION:ЛабК 44
END:VEVENT
BEGIN:VEVENT
UID:b8mr@192.168.245.71:3006
SEQUENCE:0
DTSTAMP:20260424T175419Z
DTSTART:20251201T130000Z
DTEND:20251201T134000Z
SUMMARY:Химия
LOCATION:ЛабК 44
END:VEVENT
BEGIN:VEVENT
UID:1sp2@192.168.245.71:3006
SEQUENCE:0
DTSTAMP:20260424T175419Z
DTSTART:20251202T050000Z
DTEND:20251202T064000Z
SUMMARY:Русский язык как иностранный
LOCATION:15 к. 305
END:VEVENT
BEGIN:VEVENT
UID:4bdg@192.168.245.71:3006
SEQUENCE:0
DTSTAMP:20260424T175419Z
DTSTART:20251202T090000Z
DTEND:20251202T104000Z
SUMMARY:Геодезия
LOCATION:СПГК 112
END:VEVENT
BEGIN:VEVENT
UID:gcit@192.168.245.71:3006
SEQUENCE:0
DTSTAMP:20260424T175419Z
DTSTART:20251202T110000Z
DTEND:20251202T124000Z
SUMMARY:Основы российской государственности
LOCATION:ГК-2 405
END:VEVENT
BEGIN:VEVENT
UID:txc9@192.168.245.71:3006
SEQUENCE:0
DTSTAMP:20260424T175419Z
DTSTART:20251203T070000Z
DTEND:20251203T084000Z
SUMMARY:Высшая математика
LOCATION:ГЗ 305
END:VEVENT
BEGIN:VEVENT
UID:w4me@192.168.245.71:3006
SEQUENCE:0
DTSTAMP:20260424T175419Z
DTSTART:20251203T090000Z
DTEND:20251203T104000Z
SUMMARY:Инженерная графика
LOCATION:ГК-2 402
END:VEVENT
BEGIN:VEVENT
UID:svym@192.168.245.71:3006
SEQUENCE:0
DTSTAMP:20260424T175419Z
DTSTART:20251203T110000Z
DTEND:20251203T124000Z
SUMMARY:История России
LOCATION:ГК-2 405
END:VEVENT
BEGIN:VEVENT
UID:1cpg@192.168.245.71:3006
SEQUENCE:0
DTSTAMP:20260424T175419Z
DTSTART:20251204T050000Z
DTEND:20251204T064000Z
SUMMARY:Элективная физическая культура и спорт
LOCATION:СК Секции
END:VEVENT
BEGIN:VEVENT
UID:yt35@192.168.245.71:3006
SEQUENCE:0
DTSTAMP:20260424T175419Z
DTSTART:20251204T070000Z
DTEND:20251204T084000Z
SUMMARY:Иностранный язык: Базовый курс
LOCATION:ГК-2 304
END:VEVENT
BEGIN:VEVENT
UID:yno7@192.168.245.71:3006
SEQUENCE:0
DTSTAMP:20260424T175419Z
DTSTART:20251204T090000Z
DTEND:20251204T104000Z
SUMMARY:Высшая математика
LOCATION:ГЗ 329
END:VEVENT
BEGIN:VEVENT
UID:to0t@192.168.245.71:3006
SEQUENCE:0
DTSTAMP:20260424T175419Z
DTSTART:20251205T070000Z
DTEND:20251205T084000Z
SUMMARY:Высшая математика
LOCATION:ГК-2 509
END:VEVENT
BEGIN:VEVENT
UID:phva@192.168.245.71:3006
SEQUENCE:0
DTSTAMP:20260424T175419Z
DTSTART:20251205T090000Z
DTEND:20251205T104000Z
SUMMARY:Высшая математика
LOCATION:ГК-2 509
END:VEVENT
BEGIN:VEVENT
UID:k5uh@192.168.245.71:3006
SEQUENCE:0
DTSTAMP:20260424T175419Z
DTSTART:20251205T110000Z
DTEND:20251205T124000Z
SUMMARY:Химия
LOCATION:ГЗ 235
END:VEVENT
BEGIN:VEVENT
UID:5c09@192.168.245.71:3006
SEQUENCE:0
DTSTAMP:20260424T175419Z
DTSTART:20251205T130000Z
DTEND:20251205T144000Z
SUMMARY:Творческие семестры
LOCATION:ГЗ Белый зал
END:VEVENT
BEGIN:VEVENT
UID:9908@192.168.245.71:3006
SEQUENCE:0
DTSTAMP:20260424T175419Z
DTSTART:20251206T070000Z
DTEND:20251206T084000Z
SUMMARY:Иностранный язык: Русский язык как иностранный
LOCATION:ГЗ 284
END:VEVENT
BEGIN:VEVENT
UID:5me7@192.168.245.71:3006
SEQUENCE:0
DTSTAMP:20260424T175419Z
DTSTART:20251206T090000Z
DTEND:20251206T104000Z
SUMMARY:Иностранный язык: Русский язык как иностранный
LOCATION:ГЗ 284
END:VEVENT
END:VCALENDAR