BEGIN:VCALENDAR
VERSION:2.0
PRODID:-//spbstu.ru//ical//RU
NAME:Расписание группы 3130801/50005
X-WR-CALNAME:Расписание группы 3130801/50005
TIMEZONE-ID:Europe/Moscow
X-WR-TIMEZONE:Europe/Moscow
BEGIN:VEVENT
UID:z1q8@192.168.245.71:3006
SEQUENCE:0
DTSTAMP:20260423T213952Z
DTSTART:20260114T070000Z
DTEND:20260114T074000Z
SUMMARY:Высшая математика
LOCATION:ГК-2 509
END:VEVENT
BEGIN:VEVENT
UID:munt@192.168.245.71:3006
SEQUENCE:0
DTSTAMP:20260423T213952Z
DTSTART:20260115T080000Z
DTEND:20260115T134000Z
SUMMARY:Высшая математика
LOCATION:ГК-2 509
END:VEVENT
END:VCALENDAR