BEGIN:VCALENDAR
VERSION:2.0
PRODID:-//spbstu.ru//ical//RU
NAME:Расписание группы 3130801/50005
X-WR-CALNAME:Расписание группы 3130801/50005
TIMEZONE-ID:Europe/Moscow
X-WR-TIMEZONE:Europe/Moscow
BEGIN:VEVENT
UID:co07@192.168.245.71:3006
SEQUENCE:0
DTSTAMP:20260422T190451Z
DTSTART:20260224T070000Z
DTEND:20260224T084000Z
SUMMARY:Физика
LOCATION:ГЗ 155
END:VEVENT
BEGIN:VEVENT
UID:h4m0@192.168.245.71:3006
SEQUENCE:0
DTSTAMP:20260422T190451Z
DTSTART:20260224T070000Z
DTEND:20260224T084000Z
SUMMARY:Физика
LOCATION:ГЗ 155
END:VEVENT
BEGIN:VEVENT
UID:tqa4@192.168.245.71:3006
SEQUENCE:0
DTSTAMP:20260422T190451Z
DTSTART:20260224T090000Z
DTEND:20260224T104000Z
SUMMARY:Высшая математика
LOCATION:ГК-2 309
END:VEVENT
BEGIN:VEVENT
UID:cwgd@192.168.245.71:3006
SEQUENCE:0
DTSTAMP:20260422T190451Z
DTSTART:20260224T110000Z
DTEND:20260224T124000Z
SUMMARY:Теоретическая механика
LOCATION:ГЗ 215
END:VEVENT
BEGIN:VEVENT
UID:oqp4@192.168.245.71:3006
SEQUENCE:0
DTSTAMP:20260422T190451Z
DTSTART:20260224T130000Z
DTEND:20260224T144000Z
SUMMARY:Физика
LOCATION:ГК-2 503
END:VEVENT
BEGIN:VEVENT
UID:bqsw@192.168.245.71:3006
SEQUENCE:0
DTSTAMP:20260422T190451Z
DTSTART:20260225T061500Z
DTEND:20260225T084000Z
SUMMARY:Физика
LOCATION:ГЗ 215
END:VEVENT
BEGIN:VEVENT
UID:g1he@192.168.245.71:3006
SEQUENCE:0
DTSTAMP:20260422T190451Z
DTSTART:20260225T090000Z
DTEND:20260225T104000Z
SUMMARY:Информатика
LOCATION:ГК-2 203а
END:VEVENT
BEGIN:VEVENT
UID:azfb@192.168.245.71:3006
SEQUENCE:0
DTSTAMP:20260422T190451Z
DTSTART:20260225T110000Z
DTEND:20260225T124000Z
SUMMARY:Инженерная графика
LOCATION:ГК-2 402
END:VEVENT
BEGIN:VEVENT
UID:7ghs@192.168.245.71:3006
SEQUENCE:0
DTSTAMP:20260422T190451Z
DTSTART:20260225T150000Z
DTEND:20260225T164000Z
SUMMARY:Геодезия
LOCATION:ГК 108
END:VEVENT
BEGIN:VEVENT
UID:ocrx@192.168.245.71:3006
SEQUENCE:0
DTSTAMP:20260422T190451Z
DTSTART:20260226T050000Z
DTEND:20260226T064000Z
SUMMARY:Элективная физическая культура и спорт
LOCATION:СК Секции
END:VEVENT
BEGIN:VEVENT
UID:zpr3@192.168.245.71:3006
SEQUENCE:0
DTSTAMP:20260422T190451Z
DTSTART:20260226T070000Z
DTEND:20260226T084000Z
SUMMARY:Информатика
LOCATION:ГЗ 215
END:VEVENT
BEGIN:VEVENT
UID:h8u3@192.168.245.71:3006
SEQUENCE:0
DTSTAMP:20260422T190451Z
DTSTART:20260226T090000Z
DTEND:20260226T104000Z
SUMMARY:Высшая математика
LOCATION:ГЗ 305
END:VEVENT
BEGIN:VEVENT
UID:o7qs@192.168.245.71:3006
SEQUENCE:0
DTSTAMP:20260422T190451Z
DTSTART:20260226T150000Z
DTEND:20260226T164000Z
SUMMARY:Элективная физическая культура и спорт
LOCATION:СК Секции
END:VEVENT
BEGIN:VEVENT
UID:8vmw@192.168.245.71:3006
SEQUENCE:0
DTSTAMP:20260422T190451Z
DTSTART:20260227T070000Z
DTEND:20260227T084000Z
SUMMARY:История России
LOCATION:ГЗ 329
END:VEVENT
BEGIN:VEVENT
UID:tfg4@192.168.245.71:3006
SEQUENCE:0
DTSTAMP:20260422T190451Z
DTSTART:20260227T090000Z
DTEND:20260227T104000Z
SUMMARY:Иностранный язык: Базовый курс
LOCATION:ГК-2 401а
END:VEVENT
BEGIN:VEVENT
UID:s034@192.168.245.71:3006
SEQUENCE:0
DTSTAMP:20260422T190451Z
DTSTART:20260227T110000Z
DTEND:20260227T124000Z
SUMMARY:История России
LOCATION:ГК-2 509
END:VEVENT
BEGIN:VEVENT
UID:jw7n@192.168.245.71:3006
SEQUENCE:0
DTSTAMP:20260422T190451Z
DTSTART:20260227T150000Z
DTEND:20260227T164000Z
SUMMARY:Основы цифровых технологий
LOCATION:ГК-2 210
END:VEVENT
BEGIN:VEVENT
UID:doxu@192.168.245.71:3006
SEQUENCE:0
DTSTAMP:20260422T190451Z
DTSTART:20260228T070000Z
DTEND:20260228T084000Z
SUMMARY:Иностранный язык: Русский язык как иностранный
LOCATION:ГЗ 230
END:VEVENT
BEGIN:VEVENT
UID:486x@192.168.245.71:3006
SEQUENCE:0
DTSTAMP:20260422T190451Z
DTSTART:20260228T090000Z
DTEND:20260228T104000Z
SUMMARY:Иностранный язык: Русский язык как иностранный
LOCATION:ГЗ 230
END:VEVENT
END:VCALENDAR