BEGIN:VCALENDAR
VERSION:2.0
PRODID:-//spbstu.ru//ical//RU
NAME:Расписание группы 3130801/50005
X-WR-CALNAME:Расписание группы 3130801/50005
TIMEZONE-ID:Europe/Moscow
X-WR-TIMEZONE:Europe/Moscow
BEGIN:VEVENT
UID:wbh0@192.168.245.71:3006
SEQUENCE:0
DTSTAMP:20260421T215431Z
DTSTART:20260330T070000Z
DTEND:20260330T084000Z
SUMMARY:Элективная физическая культура и спорт
LOCATION:СК Секции
END:VEVENT
BEGIN:VEVENT
UID:esjv@192.168.245.71:3006
SEQUENCE:0
DTSTAMP:20260421T215431Z
DTSTART:20260330T090000Z
DTEND:20260330T104000Z
SUMMARY:Теоретическая механика
LOCATION:ГК-2 301а
END:VEVENT
BEGIN:VEVENT
UID:z5rd@192.168.245.71:3006
SEQUENCE:0
DTSTAMP:20260421T215431Z
DTSTART:20260330T110000Z
DTEND:20260330T124000Z
SUMMARY:Геодезия
LOCATION:ГК 108
END:VEVENT
BEGIN:VEVENT
UID:ii8s@192.168.245.71:3006
SEQUENCE:0
DTSTAMP:20260421T215431Z
DTSTART:20260331T090000Z
DTEND:20260331T104000Z
SUMMARY:Высшая математика
LOCATION:ГК-2 309
END:VEVENT
BEGIN:VEVENT
UID:uivp@192.168.245.71:3006
SEQUENCE:0
DTSTAMP:20260421T215431Z
DTSTART:20260331T110000Z
DTEND:20260331T124000Z
SUMMARY:Теоретическая механика
LOCATION:ГЗ 215
END:VEVENT
BEGIN:VEVENT
UID:ts0j@192.168.245.71:3006
SEQUENCE:0
DTSTAMP:20260421T215431Z
DTSTART:20260331T130000Z
DTEND:20260331T144000Z
SUMMARY:Физика
LOCATION:ГК-2 503
END:VEVENT
BEGIN:VEVENT
UID:zy8e@192.168.245.71:3006
SEQUENCE:0
DTSTAMP:20260421T215431Z
DTSTART:20260401T061500Z
DTEND:20260401T084000Z
SUMMARY:Физика
LOCATION:ГЗ 215
END:VEVENT
BEGIN:VEVENT
UID:4wvk@192.168.245.71:3006
SEQUENCE:0
DTSTAMP:20260421T215431Z
DTSTART:20260401T090000Z
DTEND:20260401T104000Z
SUMMARY:Информатика
LOCATION:ГК-2 203а
END:VEVENT
BEGIN:VEVENT
UID:2ucy@192.168.245.71:3006
SEQUENCE:0
DTSTAMP:20260421T215431Z
DTSTART:20260401T110000Z
DTEND:20260401T124000Z
SUMMARY:Инженерная графика
LOCATION:ГК-2 402
END:VEVENT
BEGIN:VEVENT
UID:8ahw@192.168.245.71:3006
SEQUENCE:0
DTSTAMP:20260421T215431Z
DTSTART:20260401T130000Z
DTEND:20260401T144000Z
SUMMARY:Информатика
LOCATION:ГК-2 404
END:VEVENT
BEGIN:VEVENT
UID:l7ob@192.168.245.71:3006
SEQUENCE:0
DTSTAMP:20260421T215431Z
DTSTART:20260402T050000Z
DTEND:20260402T064000Z
SUMMARY:Элективная физическая культура и спорт
LOCATION:СК Секции
END:VEVENT
BEGIN:VEVENT
UID:eksf@192.168.245.71:3006
SEQUENCE:0
DTSTAMP:20260421T215431Z
DTSTART:20260402T070000Z
DTEND:20260402T084000Z
SUMMARY:Информатика
LOCATION:ГЗ 215
END:VEVENT
BEGIN:VEVENT
UID:b9ho@192.168.245.71:3006
SEQUENCE:0
DTSTAMP:20260421T215431Z
DTSTART:20260402T090000Z
DTEND:20260402T104000Z
SUMMARY:Высшая математика
LOCATION:ГЗ 305
END:VEVENT
BEGIN:VEVENT
UID:47v2@192.168.245.71:3006
SEQUENCE:0
DTSTAMP:20260421T215431Z
DTSTART:20260403T070000Z
DTEND:20260403T084000Z
SUMMARY:Инженерная графика
LOCATION:ГЗ 215
END:VEVENT
BEGIN:VEVENT
UID:6bky@192.168.245.71:3006
SEQUENCE:0
DTSTAMP:20260421T215431Z
DTSTART:20260403T090000Z
DTEND:20260403T104000Z
SUMMARY:Иностранный язык: Базовый курс
LOCATION:ГК-2 401а
END:VEVENT
BEGIN:VEVENT
UID:qjwg@192.168.245.71:3006
SEQUENCE:0
DTSTAMP:20260421T215431Z
DTSTART:20260403T110000Z
DTEND:20260403T124000Z
SUMMARY:История России
LOCATION:ГК-2 509
END:VEVENT
BEGIN:VEVENT
UID:k2j9@192.168.245.71:3006
SEQUENCE:0
DTSTAMP:20260421T215431Z
DTSTART:20260403T130000Z
DTEND:20260403T144000Z
SUMMARY:Экономическая культура
LOCATION:ГК-2 513
END:VEVENT
BEGIN:VEVENT
UID:lc7i@192.168.245.71:3006
SEQUENCE:0
DTSTAMP:20260421T215431Z
DTSTART:20260404T070000Z
DTEND:20260404T084000Z
SUMMARY:Иностранный язык: Русский язык как иностранный
LOCATION:ГЗ 230
END:VEVENT
BEGIN:VEVENT
UID:chho@192.168.245.71:3006
SEQUENCE:0
DTSTAMP:20260421T215431Z
DTSTART:20260404T090000Z
DTEND:20260404T104000Z
SUMMARY:Иностранный язык: Русский язык как иностранный
LOCATION:ГЗ 230
END:VEVENT
END:VCALENDAR