BEGIN:VCALENDAR
VERSION:2.0
PRODID:-//spbstu.ru//ical//RU
NAME:Расписание группы 3130801/50006
X-WR-CALNAME:Расписание группы 3130801/50006
TIMEZONE-ID:Europe/Moscow
X-WR-TIMEZONE:Europe/Moscow
BEGIN:VEVENT
UID:xsf4@192.168.245.71:3006
SEQUENCE:0
DTSTAMP:20260424T205944Z
DTSTART:20251222T070000Z
DTEND:20251222T100000Z
SUMMARY:Геодезия
LOCATION:ГК 108
END:VEVENT
BEGIN:VEVENT
UID:0f14@192.168.245.71:3006
SEQUENCE:0
DTSTAMP:20260424T205944Z
DTSTART:20251222T110000Z
DTEND:20251222T124000Z
SUMMARY:Химия
LOCATION:Хим. к. 10
END:VEVENT
BEGIN:VEVENT
UID:61im@192.168.245.71:3006
SEQUENCE:0
DTSTAMP:20260424T205944Z
DTSTART:20251223T070000Z
DTEND:20251223T100000Z
SUMMARY:История России
LOCATION:ГК-2 509
END:VEVENT
BEGIN:VEVENT
UID:sbov@192.168.245.71:3006
SEQUENCE:0
DTSTAMP:20260424T205944Z
DTSTART:20251224T070000Z
DTEND:20251224T084000Z
SUMMARY:Инженерная графика
LOCATION:ГК-2 310
END:VEVENT
BEGIN:VEVENT
UID:1h9l@192.168.245.71:3006
SEQUENCE:0
DTSTAMP:20260424T205944Z
DTSTART:20251224T090000Z
DTEND:20251224T130000Z
SUMMARY:Инженерная графика
LOCATION:ГК-2 310
END:VEVENT
BEGIN:VEVENT
UID:3b9a@192.168.245.71:3006
SEQUENCE:0
DTSTAMP:20260424T205944Z
DTSTART:20251227T060000Z
DTEND:20251227T084000Z
SUMMARY:Иностранный язык: Русский язык как иностранный
LOCATION:ГК 229
END:VEVENT
END:VCALENDAR